BEGIN:VCALENDAR
METHOD:PUBLISH
X-WR-TIMEZONE:America/Denver
PRODID:-//Hold My Ticket.//HMT Web App//EN
CALSCALE:GREGORIAN
METHOD:PUBLISH
X-WR-CALNAME:Launchpad
X-WR-CALDESC:Upcoming events at Launchpad
BEGIN:VTIMEZONE
TZID:America/Denver 
END:VTIMEZONE
BEGIN:VEVENT
SEQUENCE:2
TRANSP:OPAQUE
UID:1fb0fef66f41c51ae6dd7f42afda904e
DTSTART:20260423T190000
DTSTAMP:20260224T161820Z
SUMMARY:14th Annual Gathering of MCs (Night 1)
DESCRIPTION:
CREATED:20260224T161820Z
URL;VALUE=URI:http://holdmyticket.com/event/450842 

DTEND:20260423T230000
END:VEVENT
BEGIN:VEVENT
SEQUENCE:2
TRANSP:OPAQUE
UID:a746598444dc3e5415572d2acf02f55a
DTSTART:20260424T180000
DTSTAMP:20260407T114529Z
SUMMARY:14th Annual Gathering of MCs (Night 2)
DESCRIPTION:
CREATED:20260407T114529Z
URL;VALUE=URI:http://holdmyticket.com/event/450843 

DTEND:20260424T230000
END:VEVENT
BEGIN:VEVENT
SEQUENCE:2
TRANSP:OPAQUE
UID:090456ed782b7bec7730ef0f1ae336c7
DTSTART:20260425T200000
DTSTAMP:20260313T140535Z
SUMMARY:Crime Lab * Gooey Cookie * Sweet Roll * Wasco Rabbit
DESCRIPTION:
CREATED:20260313T140535Z
URL;VALUE=URI:http://holdmyticket.com/event/458211 

DTEND:20260425T230000
END:VEVENT
BEGIN:VEVENT
SEQUENCE:2
TRANSP:OPAQUE
UID:aeea50c13ce5f9bbf748798c762cef9f
DTSTART:20260426T200000
DTSTAMP:20260403T141013Z
SUMMARY:New Misphoria * Catcalling Canines * The Boys Room
DESCRIPTION:
CREATED:20260403T141013Z
URL;VALUE=URI:http://holdmyticket.com/event/460743 

DTEND:20260426T230000
END:VEVENT
BEGIN:VEVENT
SEQUENCE:2
TRANSP:OPAQUE
UID:c3f3710833801973e07cec7d4d15e553
DTSTART:20260428T193000
DTSTAMP:20260414T130402Z
SUMMARY:Silent Theory * Outlier * Discrepancies * Atlas/Below * Vision of Fire
DESCRIPTION:
CREATED:20260414T130402Z
URL;VALUE=URI:http://holdmyticket.com/event/454646 

DTEND:20260428T233000
END:VEVENT
BEGIN:VEVENT
SEQUENCE:2
TRANSP:OPAQUE
UID:148460159e10d3add44cea7ce0b16127
DTSTART:20260430T200000
DTSTAMP:20260402T125247Z
SUMMARY:Three Bad Jacks * The Wreckin Katz * Jacob Shije
DESCRIPTION:
CREATED:20260402T125247Z
URL;VALUE=URI:http://holdmyticket.com/event/460595 

DTEND:20260430T230000
END:VEVENT
BEGIN:VEVENT
SEQUENCE:2
TRANSP:OPAQUE
UID:ccf7c9dff1361d5590f1df3df319e1e3
DTSTART:20260501T200000
DTSTAMP:20260409T120224Z
SUMMARY:El Mariachi Manchester * The Reelers * DJ La Ruda
DESCRIPTION:
CREATED:20260409T120224Z
URL;VALUE=URI:http://holdmyticket.com/event/456779 

DTEND:20260501T230000
END:VEVENT
BEGIN:VEVENT
SEQUENCE:2
TRANSP:OPAQUE
UID:3a837cf2e7606a3fdbd13ea8d79dd337
DTSTART:20260502T200000
DTSTAMP:20260318T141001Z
SUMMARY:All Thicc * Thrall * 12 Step Rebels (Acoustic) * Blue J and the Pigeons
DESCRIPTION:
CREATED:20260318T141001Z
URL;VALUE=URI:http://holdmyticket.com/event/458563 

DTEND:20260502T230000
END:VEVENT
BEGIN:VEVENT
SEQUENCE:2
TRANSP:OPAQUE
UID:072354ed601a8b5bb01c5401ad7d02a1
DTSTART:20260503T200000
DTSTAMP:20260227T093609Z
SUMMARY:Spiritworld * Desmadre * Doomsday
DESCRIPTION:* Spiritworld * Desmadre * Doomsday *

Sunday, May 3, 2026
Doors 7pm | Show 8pm
Launchpad 
ABQ NM 
all ages 

Advance tickets - $20 + service charge
Ticket prices may increase day of show
https://www.facebook.com/events/4432623630315018
CREATED:20260227T093609Z
URL;VALUE=URI:http://holdmyticket.com/event/458911 

DTEND:20260503T230000
END:VEVENT
BEGIN:VEVENT
SEQUENCE:2
TRANSP:OPAQUE
UID:1d8c2de113a32688fb4bd16c1f274800
DTSTART:20260504T200000
DTSTAMP:20260403T134903Z
SUMMARY:Knumears * Novely * Dog Sees God * Self Neglect 
DESCRIPTION:* Knumears * Novely * Dog Sees God * Self Neglect *

Monday, May 4, 2026
Doors 7pm | Show 8pm
Launchpad 
ABQ NM 
all ages 

Advance tickets - $15 + service charge
Ticket prices may increase day of show
https://www.facebook.com/events/1451049130045640

NOW ON SALE! 
CREATED:20260403T134903Z
URL;VALUE=URI:http://holdmyticket.com/event/458410 

DTEND:20260504T230000
END:VEVENT
BEGIN:VEVENT
SEQUENCE:2
TRANSP:OPAQUE
UID:4cb7930fc310ee22f177ad8dfc118db6
DTSTART:20260505T200000
DTSTAMP:20260403T133725Z
SUMMARY:Beach Vacation * Train Conductor 
DESCRIPTION:
CREATED:20260403T133725Z
URL;VALUE=URI:http://holdmyticket.com/event/458003 

DTEND:20260505T230000
END:VEVENT
BEGIN:VEVENT
SEQUENCE:2
TRANSP:OPAQUE
UID:dc8c51a016ac3a9fa7ef36a7642eca46
DTSTART:20260506T200000
DTSTAMP:20260302T103322Z
SUMMARY:Iration at The Bridge Santa Fe 
DESCRIPTION:* Iration * Artikal Sound System * 
CREATED:20260302T103322Z
URL;VALUE=URI:http://holdmyticket.com/event/456124 

DTEND:20260506T230000
END:VEVENT
BEGIN:VEVENT
SEQUENCE:2
TRANSP:OPAQUE
UID:d6e4f2e82721dc315496ffbd2f02730c
DTSTART:20260508T190000
DTSTAMP:20260224T161820Z
SUMMARY:Uada * Mortiis * Rome * Wraith Knight
DESCRIPTION:* Uada * Mortiis * Rome * Wraith Knight *
The Witches Of Dystopia Tour

Friday, May 8, 2026
Doors 7pm | Show 8pm
Launchpad
ABQ NM
all ages

Advance tickets - $25 + service charge
Ticket prices may increase day of show
https://www.facebook.com/events/804332735973234

CREATED:20260224T161820Z
URL;VALUE=URI:http://holdmyticket.com/event/452742 

DTEND:20260508T230000
END:VEVENT
BEGIN:VEVENT
SEQUENCE:2
TRANSP:OPAQUE
UID:114e24722609e2a9c26cd566b67280f6
DTSTART:20260509T190000
DTSTAMP:20260409T143547Z
SUMMARY:Suspended * All Thicc * Jacob Shije Trio * Smoking Dolls * Taj 
DESCRIPTION:
CREATED:20260409T143547Z
URL;VALUE=URI:http://holdmyticket.com/event/459365 

DTEND:20260509T234500
END:VEVENT
BEGIN:VEVENT
SEQUENCE:2
TRANSP:OPAQUE
UID:358460f0214499d40a1c4a3f079fd0d5
DTSTART:20260512T200000
DTSTAMP:20260423T100033Z
SUMMARY:Nicky Diamonds Live at Launchpad
DESCRIPTION:
CREATED:20260423T100033Z
URL;VALUE=URI:http://holdmyticket.com/event/462048 

DTEND:20260512T230000
END:VEVENT
BEGIN:VEVENT
SEQUENCE:2
TRANSP:OPAQUE
UID:c26947bdb266a757176f0cd0411a06c8
DTSTART:20260513T200000
DTSTAMP:20260224T161820Z
SUMMARY:Trauma Ray * Glixen * Keep * Money
DESCRIPTION:* Trauma Ray * Glixen * Keep * Money *

Wednesday, May 13, 2026
Doors 7pm | Show 8pm
Launchpad
ABQ NM
all ages

Advance tickets - $22 + service charge
Ticket prices may increase day of show
https://www.facebook.com/events/756991854142013

NOW ON SALE! 
CREATED:20260224T161820Z
URL;VALUE=URI:http://holdmyticket.com/event/452329 

DTEND:20260513T230000
END:VEVENT
BEGIN:VEVENT
SEQUENCE:2
TRANSP:OPAQUE
UID:e9fea2107f938f3e5184a1714f593b8f
DTSTART:20260514T200000
DTSTAMP:20260420T130225Z
SUMMARY:Ingrown * Witness Chamber * Weedrat * Vow Of Violence
DESCRIPTION:* Ingrown * Witness Chamber * Vow Of Violence * Weedrat  *
CREATED:20260420T130225Z
URL;VALUE=URI:http://holdmyticket.com/event/458932 

DTEND:20260514T230000
END:VEVENT
BEGIN:VEVENT
SEQUENCE:2
TRANSP:OPAQUE
UID:66db8f34087d419f79b414f873597db3
DTSTART:20260515T200000
DTSTAMP:20260224T161820Z
SUMMARY:Broncho
DESCRIPTION:*  Broncho  * 
CREATED:20260224T161820Z
URL;VALUE=URI:http://holdmyticket.com/event/456829 

DTEND:20260515T230000
END:VEVENT
BEGIN:VEVENT
SEQUENCE:2
TRANSP:OPAQUE
UID:67974e4ac9153442456546f7e5e12ed7
DTSTART:20260518T200000
DTSTAMP:20260418T182701Z
SUMMARY:Holy Fuck * Dream Noise * SNDWAVS
DESCRIPTION:* Holy Fuck * Dream Noise * SNDWAVS *

Monday, May 18, 2026
Doors 7pm | Show 8pm
Launchpad
ABQ NM
all ages

Advance tickets - $20 + service charge
Ticket prices may increase day of show
https://www.facebook.com/events/865916429396084
CREATED:20260418T182701Z
URL;VALUE=URI:http://holdmyticket.com/event/455665 

DTEND:20260518T230000
END:VEVENT
BEGIN:VEVENT
SEQUENCE:2
TRANSP:OPAQUE
UID:581ecb81b48884c7f047b41ff2540d14
DTSTART:20260519T200000
DTSTAMP:20260305T135002Z
SUMMARY:Supersuckers * Scott H. Biram * Phantom Riot
DESCRIPTION:
CREATED:20260305T135002Z
URL;VALUE=URI:http://holdmyticket.com/event/458392 

DTEND:20260519T230000
END:VEVENT
BEGIN:VEVENT
SEQUENCE:2
TRANSP:OPAQUE
UID:e0f653f83e8ca40451a53d473b7c6bfd
DTSTART:20260522T200000
DTSTAMP:20260423T130200Z
SUMMARY:Nosotros * Vibestrong * Reviva * DJ CQ the Drummer
DESCRIPTION:
CREATED:20260423T130200Z
URL;VALUE=URI:http://holdmyticket.com/event/462166 

DTEND:20260522T230000
END:VEVENT
BEGIN:VEVENT
SEQUENCE:2
TRANSP:OPAQUE
UID:2a22dd9264c68a178a762fab97dfeb76
DTSTART:20260523T210000
DTSTAMP:20260317T120024Z
SUMMARY:Emo Nite 
DESCRIPTION:* Emo Nite *

Saturday, May 23, 2026
Doors 9pm | Show 9pm
Launchpad 
ABQ NM 
21+

Advance tickets - $16 + service charge
Ticket prices may increase day of show


$1 per ticket transaction sponsors Emo Nite Gives A F*ck. Donations are allocated for worthwhile organizations focusing on:

· Mental Health
· Harm Reduction
· Children & Families
· Poverty & Homelessness
· Disenfranchised Communities
· Terminal Illness
CREATED:20260317T120024Z
URL;VALUE=URI:http://holdmyticket.com/event/459314 

DTEND:20260523T230000
END:VEVENT
BEGIN:VEVENT
SEQUENCE:2
TRANSP:OPAQUE
UID:f828db5b84d47108b02ff8bb3a1fd280
DTSTART:20260526T200000
DTSTAMP:20260415T135855Z
SUMMARY:Sooflay * Pancake Haus * Margle
DESCRIPTION:
CREATED:20260415T135855Z
URL;VALUE=URI:http://holdmyticket.com/event/460717 

DTEND:20260526T230000
END:VEVENT
BEGIN:VEVENT
SEQUENCE:2
TRANSP:OPAQUE
UID:39edebd79ca111b5c0b5c6c2fdd0330a
DTSTART:20260527T200000
DTSTAMP:20260306T093856Z
SUMMARY:Windwaker * If Not For Me * Colorblind 
DESCRIPTION:* Windwaker * If Not For Me * Colorblind  * 
The Hounds of the Underground Tour 

Wednesday, May 27, 2026
Doors 7pm | Show 8pm
Launchpad
ABQ NM 
all ages

Advance tickets - $17 + service charge
Ticket prices may increase day of show
https://www.facebook.com/events/772514725862296
CREATED:20260306T093856Z
URL;VALUE=URI:http://holdmyticket.com/event/459075 

DTEND:20260527T230000
END:VEVENT
BEGIN:VEVENT
SEQUENCE:2
TRANSP:OPAQUE
UID:9471cefc74527647f4379e672aa2268f
DTSTART:20260529T200000
DTSTAMP:20260224T161820Z
SUMMARY:Distinct Motive 
DESCRIPTION:
CREATED:20260224T161820Z
URL;VALUE=URI:http://holdmyticket.com/event/456961 

DTEND:20260529T230000
END:VEVENT
BEGIN:VEVENT
SEQUENCE:2
TRANSP:OPAQUE
UID:5aae84f296c926b83e2b5a6812eeae05
DTSTART:20260531T200000
DTSTAMP:20260424T100041Z
SUMMARY:Brat 
DESCRIPTION:* Brat * 
Doin It Evil Style Tour 
CREATED:20260424T100041Z
URL;VALUE=URI:http://holdmyticket.com/event/461889 

DTEND:20260531T230000
END:VEVENT
BEGIN:VEVENT
SEQUENCE:2
TRANSP:OPAQUE
UID:25816fb0cdc0aad7122af427630f90e6
DTSTART:20260603T200000
DTSTAMP:20260224T161820Z
SUMMARY:Kelsy Karter & The Heroines * Grace McKagen
DESCRIPTION:* Kelsy Karter & The Heroines * Grace McKagen *
CREATED:20260224T161820Z
URL;VALUE=URI:http://holdmyticket.com/event/454433 

DTEND:20260603T230000
END:VEVENT
BEGIN:VEVENT
SEQUENCE:2
TRANSP:OPAQUE
UID:88f562a874d5d45255484cffc78e8789
DTSTART:20260606T200000
DTSTAMP:20260416T113646Z
SUMMARY:Riot Ten 
DESCRIPTION:
CREATED:20260416T113646Z
URL;VALUE=URI:http://holdmyticket.com/event/458655 

DTEND:20260606T230000
END:VEVENT
BEGIN:VEVENT
SEQUENCE:2
TRANSP:OPAQUE
UID:80e9cfc1545bdac2e1f739fe9e699058
DTSTART:20260610T200000
DTSTAMP:20260410T131443Z
SUMMARY:Luna Day * No Manners * Sisterbaby * The Boys Room
DESCRIPTION:
CREATED:20260410T131443Z
URL;VALUE=URI:http://holdmyticket.com/event/459961 

DTEND:20260610T230000
END:VEVENT
BEGIN:VEVENT
SEQUENCE:2
TRANSP:OPAQUE
UID:8fa102062f69fb12afc644c2f3d63053
DTSTART:20260611T200000
DTSTAMP:20260408T103244Z
SUMMARY:Playboy Manbaby * Russian Girlfriends * Dog Jury
DESCRIPTION:* Playboy Manbaby * Russian Girlfriends * Dog Jury *
Corporations Are People Toour 2026

Thursday, June 11, 2026
Doors 7pm | Show 8pm
Launchpad 
ABQ NM 
all ages 

Advance tickets - $15 + service charge
Ticket prices may increase day of show
https://www.facebook.com/events/1439688994520456

NOW ON SALE! 
CREATED:20260408T103244Z
URL;VALUE=URI:http://holdmyticket.com/event/458419 

DTEND:20260611T230000
END:VEVENT
BEGIN:VEVENT
SEQUENCE:2
TRANSP:OPAQUE
UID:9547b26f22dd5adf9f0ef722cd9198a8
DTSTART:20260612T200000
DTSTAMP:20260402T135231Z
SUMMARY:NOVULENT * BABYTEETH
DESCRIPTION:
CREATED:20260402T135231Z
URL;VALUE=URI:http://holdmyticket.com/event/460820 

DTEND:20260612T230000
END:VEVENT
BEGIN:VEVENT
SEQUENCE:2
TRANSP:OPAQUE
UID:48fef5d491a82593b4a2d143aa4deb76
DTSTART:20260615T200000
DTSTAMP:20260423T083113Z
SUMMARY:Camping In Alaska * Dear Cincinnati * Glimpse 
DESCRIPTION:* Camping In Alaska * Dear Cincinnati * Glimpse *

ON SALE THURSDAY 
CREATED:20260423T083113Z
URL;VALUE=URI:http://holdmyticket.com/event/461211 

DTEND:20260615T230000
END:VEVENT
BEGIN:VEVENT
SEQUENCE:2
TRANSP:OPAQUE
UID:800b153d63ecf6c0b7916b8340a3b9bb
DTSTART:20260616T200000
DTSTAMP:20260325T232552Z
SUMMARY:MC Chris * Mega Ran * Condard
DESCRIPTION:
CREATED:20260325T232552Z
URL;VALUE=URI:http://holdmyticket.com/event/457225 

DTEND:20260616T230000
END:VEVENT
BEGIN:VEVENT
SEQUENCE:2
TRANSP:OPAQUE
UID:e1be509f08e978501064a0d52b6577fe
DTSTART:20260617T200000
DTSTAMP:20260410T114439Z
SUMMARY:Deceits * Night Ritualz
DESCRIPTION:* Deceits * Night Ritualz *

Wednesday, June 17, 2026
Doors 7pm | Show 8pm
Launchpad
ABQ NM
all ages

Advance tickets - $17 + service charge
Ticket prices may increase day of show
https://www.facebook.com/events/1512995833754947
CREATED:20260410T114439Z
URL;VALUE=URI:http://holdmyticket.com/event/461467 

DTEND:20260617T230000
END:VEVENT
BEGIN:VEVENT
SEQUENCE:2
TRANSP:OPAQUE
UID:f5f6e70bd7f2e41b964d2cc79cf2be96
DTSTART:20260619T200000
DTSTAMP:20260414T100021Z
SUMMARY:Wrekonize
DESCRIPTION:
CREATED:20260414T100021Z
URL;VALUE=URI:http://holdmyticket.com/event/460895 

DTEND:20260619T230000
END:VEVENT
BEGIN:VEVENT
SEQUENCE:2
TRANSP:OPAQUE
UID:cce9cd2b78fb426de9dbb88fb904a5b8
DTSTART:20260626T193000
DTSTAMP:20260423T151501Z
SUMMARY:Futilitarian * Suspended * Distances * Crushed!? 
DESCRIPTION:
CREATED:20260423T151501Z
URL;VALUE=URI:http://holdmyticket.com/event/461860 

DTEND:20260626T230000
END:VEVENT
BEGIN:VEVENT
SEQUENCE:2
TRANSP:OPAQUE
UID:8d951999cd71f5ae7c43342e8f0e77e4
DTSTART:20260713T200000
DTSTAMP:20260227T091402Z
SUMMARY:Melvins 
DESCRIPTION:* Melvins *

Monday, July 13, 2026
Doors 7pm | Show 8pm
Launchpad 
ABQ NM 
21+

Advance tickets - $26 + service charge
Ticket prices may increase day of show
https://www.facebook.com/events/2066916014097727
CREATED:20260227T091402Z
URL;VALUE=URI:http://holdmyticket.com/event/456282 

DTEND:20260713T230000
END:VEVENT
BEGIN:VEVENT
SEQUENCE:2
TRANSP:OPAQUE
UID:bfed8ca5f33e74a0e91e049ab54b8b57
DTSTART:20260719T190000
DTSTAMP:20260423T082820Z
SUMMARY:The Word Alive - Deceiver & Dark Matter
DESCRIPTION:* The Word Alive * Not Enough Space * Downswing * Code:Words * 
Deceiver & Dark Matter

Sunday, July 19, 2026
Doors 630pm | Show 7pm
Launchpad 
ABQ NM 
all ages 

Advance tickets - $21.50 + service charge
Ticket prices may increase day of show
https://www.facebook.com/events/2027601401525287

ON SALE FRIDAY 


CREATED:20260423T082820Z
URL;VALUE=URI:http://holdmyticket.com/event/461622 

DTEND:20260719T230000
END:VEVENT
BEGIN:VEVENT
SEQUENCE:2
TRANSP:OPAQUE
UID:0c4926b15b0c3556a0d7c0272cdf0793
DTSTART:20260722T200000
DTSTAMP:20260424T093544Z
SUMMARY:Starcrawler * Sluttony
DESCRIPTION:* Starcrawler * Sluttony *

ON SALE FRIDAY 
CREATED:20260424T093544Z
URL;VALUE=URI:http://holdmyticket.com/event/461846 

DTEND:20260722T230000
END:VEVENT
BEGIN:VEVENT
SEQUENCE:2
TRANSP:OPAQUE
UID:7789da42d6782da2809c6b03de0c2995
DTSTART:20260729T200000
DTSTAMP:20260424T093317Z
SUMMARY:Millington * Mattstagraham * All Hype 
DESCRIPTION:* Millington * Mattstagraham * All Hype *
West Coast Run 2026


ON SALE FRIDAY 


CREATED:20260424T093317Z
URL;VALUE=URI:http://holdmyticket.com/event/461003 

DTEND:20260729T230000
END:VEVENT
BEGIN:VEVENT
SEQUENCE:2
TRANSP:OPAQUE
UID:48c8b394b45631f1cd9f18214d40ad90
DTSTART:20261030T190000
DTSTAMP:20260224T161820Z
SUMMARY:Launchpad presents Jim Henson's Labyrinth: In Concert 40 Anniversary at KiMo Theatre
DESCRIPTION:Launchpad presents Jim Henson's Labyrinth: In Concert 40 Anniversary at KiMo Theatre
CREATED:20260224T161820Z
URL;VALUE=URI:http://holdmyticket.com/event/457240 

DTEND:20261030T220000
END:VEVENT
END:VCALENDAR