BEGIN:VCALENDAR
METHOD:PUBLISH
X-WR-TIMEZONE:America/Denver
PRODID:-//Hold My Ticket.//HMT Web App//EN
CALSCALE:GREGORIAN
METHOD:PUBLISH
X-WR-CALNAME:Sunshine Theater
X-WR-CALDESC:Upcoming events at Sunshine Theater
BEGIN:VTIMEZONE
TZID:America/Denver 
END:VTIMEZONE
BEGIN:VEVENT
SEQUENCE:2
TRANSP:OPAQUE
UID:8adc2ef9c32a67a5d661761e6bbbff36
DTSTART:20260420T170000
DTSTAMP:20260420T210924Z
SUMMARY:Juggalo Championship Wrestling - EARLY PRE-SHOW EVENT 
DESCRIPTION:
CREATED:20260420T210924Z
URL;VALUE=URI:http://holdmyticket.com/event/460855 

DTEND:20260420T180000
END:VEVENT
BEGIN:VEVENT
SEQUENCE:2
TRANSP:OPAQUE
UID:13881a8d96bdafe0fce642f724c04cea
DTSTART:20260420T193000
DTSTAMP:20260420T224737Z
SUMMARY:Insane Clown Posse 
DESCRIPTION:* Insane Clown Posse *

Monday, April 20, 2026
Doors 630pm | Show 730pm
Sunshine Theater
ABQ NM 
all ages

Advance tickets - $65 + service charge
Ticket prices may increase day of show
https://www.facebook.com/events/1159592039416942
CREATED:20260420T224737Z
URL;VALUE=URI:http://holdmyticket.com/event/458468 

DTEND:20260420T230000
END:VEVENT
BEGIN:VEVENT
SEQUENCE:2
TRANSP:OPAQUE
UID:d601b99292183f88702ded875e2855e5
DTSTART:20260421T193000
DTSTAMP:20260413T090002Z
SUMMARY:GWAR * Soulfly * King Parrot 
DESCRIPTION:* GWAR * Soulfly * King Parrot * 
Gor Gor Strikes Back Tour 

Tuesday, April 21, 2026
Doors 630pm | Show 730pm
Sunshine Theater 
ABQ NM 
all ages 

Advance tickets - $35 + service charge
Ticket prices may increase day of show
https://www.facebook.com/events/831549289644735

NOW ON SALE!! 

CREATED:20260413T090002Z
URL;VALUE=URI:http://holdmyticket.com/event/453152 

DTEND:20260421T230000
END:VEVENT
BEGIN:VEVENT
SEQUENCE:2
TRANSP:OPAQUE
UID:ec3bf324526cf477617366cc7f4c282a
DTSTART:20260424T193000
DTSTAMP:20260416T130940Z
SUMMARY:HEALTH x CARPENTER BRUT
DESCRIPTION:* Health * Carpenter Brut * Desire *
Conflict : Leather Tour 2026

Friday, April 24, 2025
Doors 630pm | Show 730pm
Sunshine Theater
ABQ NM
all ages

Advance tickets - $28 + service charge
Ticket prices may increase day of show
https://www.facebook.com/events/1353689953012797

NOW ON SALE! 
CREATED:20260416T130940Z
URL;VALUE=URI:http://holdmyticket.com/event/452750 

DTEND:20260424T230000
END:VEVENT
BEGIN:VEVENT
SEQUENCE:2
TRANSP:OPAQUE
UID:de6c3b67f52520b79f775db8c8ef1e55
DTSTART:20260425T200000
DTSTAMP:20260413T090243Z
SUMMARY:The Crane Wives * Lilith Max
DESCRIPTION:* The Crane Wives * Lilith Max * 
Act I Tour 

Saturday, April 25, 2026
Doors 7pm | Show 8pm
Sunshine Theater 
ABQ NM 
all ages 

Advance tickets - $28 + service charge
Ticket prices may increase day of show
https://www.facebook.com/events/1301564058399099

NOW ON SALE! 
CREATED:20260413T090243Z
URL;VALUE=URI:http://holdmyticket.com/event/454208 

DTEND:20260425T230000
END:VEVENT
BEGIN:VEVENT
SEQUENCE:2
TRANSP:OPAQUE
UID:aa9388115d851758dbec41cd71db9ec5
DTSTART:20260426T193000
DTSTAMP:20260413T090358Z
SUMMARY:Freddie Dredd * Germ * Cursed 
DESCRIPTION:* Freddie Dredd * Germ * Cursed *
Back To Hell Tour

Sunday, April 26, 2026
Doors 7pm | Show 8pm
Sunshine Theater
ABQ NM
all ages

Advance tickets - $28 + service charge
Ticket prices may increase day of show
https://www.facebook.com/events/1457474549423078

NOW ON SALE!
CREATED:20260413T090358Z
URL;VALUE=URI:http://holdmyticket.com/event/458298 

DTEND:20260426T223000
END:VEVENT
BEGIN:VEVENT
SEQUENCE:2
TRANSP:OPAQUE
UID:f9e33d65aa3d11105bfbe63b18aa0d9c
DTSTART:20260426T193000
DTSTAMP:20260211T090742Z
SUMMARY:Aly & AJ (Rescheduled to December 16)
DESCRIPTION:Aly & AJ, comprised of sisters Aly and AJ Michalka, have captivated audiences around the world with their stirring harmonies, relatable lyrics, and distinctive blend of pop and indie-rock influences. Aly & AJ first burst onto the scene with their debut album Into the Rush, featuring the hit single "Rush." Their follow-up, Insomniatic, showcased their growth as artists, exploring deeper themes and curating a more defined musical identity. With hits like "Potential Breakup Song" and "Chemicals React," Aly & AJ ignited the soundtracks of our lives and solidified their status as superstars.
CREATED:20260211T090742Z
URL;VALUE=URI:http://holdmyticket.com/event/458378 

DTEND:20260426T230000
END:VEVENT
BEGIN:VEVENT
SEQUENCE:2
TRANSP:OPAQUE
UID:2c101a7b9a968ed4fe0ad18e22e318d4
DTSTART:20260427T193000
DTSTAMP:20260413T090511Z
SUMMARY:Clutch * Corrosion of Conformity * JD Pinkus 
DESCRIPTION:* Clutch * Corrosion of Conformity * JD Pinkus *
Suffer No Evil US Tour

Monday, April 27 , 2026
Doors 7pm | Show 8pm
Sunshine Theater
ABQ NM 
all ages 

Advance tickets - $35 + service charge
Ticket prices may increase day of show
https://www.facebook.com/events/1186971222891371

NOW ON SALE!! 
CREATED:20260413T090511Z
URL;VALUE=URI:http://holdmyticket.com/event/452948 

DTEND:20260427T230000
END:VEVENT
BEGIN:VEVENT
SEQUENCE:2
TRANSP:OPAQUE
UID:66b27d6754567234ff7fe9c4cf740d63
DTSTART:20260428T190000
DTSTAMP:20260413T090717Z
SUMMARY:The Black Dahlia Murder * The Acacia Strain * Disembodied Tyrant * Corpse Pile
DESCRIPTION:* The Black Dahlia Murder * The Acacia Strain * Disembodied Tyrant * Corpse Pile *
Spring Fling US Tour 

Tuesday, April 28, 2026
Doors 630pm | Show 730pm
Sunshine Theater 
ABQ NM 
all ages

Advance tickets - $28 + service charge
Ticket prices may increase day of show
https://www.facebook.com/events/1403028024663411

NOW ON SALE!! 
CREATED:20260413T090717Z
URL;VALUE=URI:http://holdmyticket.com/event/453788 

DTEND:20260428T230000
END:VEVENT
BEGIN:VEVENT
SEQUENCE:2
TRANSP:OPAQUE
UID:91218ac5a5bb743b904f72899d3bbcd7
DTSTART:20260430T200000
DTSTAMP:20260413T090856Z
SUMMARY:Lords of Acid * Princess Superstar * Tony And The Kiki * MZ Neon
DESCRIPTION:* Lords of Acid * Princess Superstar * Tony And The Kiki * MZ Neon *
Cheeky Freaky Tour 

Thursday, April 30, 2026
Doors 7pm | Show 8pm
Sunshine Theater 
ABQ NM 
all ages 

Advance tickets - $28 + service charge
Ticket prices may increase day of show
https://www.facebook.com/events/1610791453256799

NOW ON SALE!! 
CREATED:20260413T090856Z
URL;VALUE=URI:http://holdmyticket.com/event/456837 

DTEND:20260430T223000
END:VEVENT
BEGIN:VEVENT
SEQUENCE:2
TRANSP:OPAQUE
UID:f065aea6dc394688f9703fb050026c73
DTSTART:20260502T193000
DTSTAMP:20260413T091059Z
SUMMARY:Sevendust * Atreyu * Fire From The Gods * American Adrenalin 
DESCRIPTION:* Sevendust * Atreyu * Fire From the Gods * American Adrenalin * 
One Tour 

Saturday, May 2, 2026
Doors 630pm | Show 7pm
Sunshine Theater 
ABQ NM 
all ages 

Advance tickets - $30 + service charge
Ticket prices may increase day of show
https://www.facebook.com/events/1438262844397522

NOW ON SALE!! 

SEVENDUST VIP PACKAGES AVAILABLE HERE - 
https://sevendust.com/products/sevendust-vip-meet-greet-one-tour
CREATED:20260413T091059Z
URL;VALUE=URI:http://holdmyticket.com/event/455164 

DTEND:20260502T223000
END:VEVENT
BEGIN:VEVENT
SEQUENCE:2
TRANSP:OPAQUE
UID:bc04ce6c8574f5de760e1f8f4ef4de4f
DTSTART:20260506T190000
DTSTAMP:20260324T083215Z
SUMMARY:TWO FEET 
DESCRIPTION:
CREATED:20260324T083215Z
URL;VALUE=URI:http://holdmyticket.com/event/452805 

DTEND:20260506T230000
END:VEVENT
BEGIN:VEVENT
SEQUENCE:2
TRANSP:OPAQUE
UID:226c8ce6b4bdf379a791c3779aa82c30
DTSTART:20260518T193000
DTSTAMP:20260224T161820Z
SUMMARY:Peelingflesh * Missing Link * Kruelty * Bayway 
DESCRIPTION:* Peelingflesh * Missing Link * Kruelty * Bayway * 

Monday, May 18, 2026
Doors 630pm | Show 730pm
Sunshine Theater
ABQ NM 
all ages 

Advance tickets - $23 + service charge
Ticket prices may increase day of show
https://www.facebook.com/events/870824349106590

CREATED:20260224T161820Z
URL;VALUE=URI:http://holdmyticket.com/event/458094 

DTEND:20260518T230000
END:VEVENT
BEGIN:VEVENT
SEQUENCE:2
TRANSP:OPAQUE
UID:7f93de1cfa13b2743096e3892a94e452
DTSTART:20260519T193000
DTSTAMP:20260227T090114Z
SUMMARY:Whitney - Small Talk Tour
DESCRIPTION:* Whitney *
Small Talk Tour

Tuesday, May 19, 2026
Doors 630pm | Show 730pm
Sunshine Theater
ABQ NM
all ages

Advance tickets - $28 + service charge
Ticket prices may increase day of show

CREATED:20260227T090114Z
URL;VALUE=URI:http://holdmyticket.com/event/458764 

DTEND:20260519T223000
END:VEVENT
BEGIN:VEVENT
SEQUENCE:2
TRANSP:OPAQUE
UID:22d59bd185d2985ad1a63e3a65d4f1b2
DTSTART:20260521T193000
DTSTAMP:20260224T161820Z
SUMMARY:Cattle Decapitation * Brujeria * No Cure * Knoll
DESCRIPTION:* Cattle Decapitation * Brujeria * No Cure * Knoll *
30 Years Of Inhumanity

Thursday, May 21, 2026
Doors 630pm | Show 730pm
Sunshine Theater
ABQ NM
all ages

Advance tickets - $25 + service charge
Ticket prices may increase day of show 
https://www.facebook.com/events/2377823545990540
CREATED:20260224T161820Z
URL;VALUE=URI:http://holdmyticket.com/event/457589 

DTEND:20260521T223000
END:VEVENT
BEGIN:VEVENT
SEQUENCE:2
TRANSP:OPAQUE
UID:11d153135bfcb41a9da2cc36c97b9b98
DTSTART:20260524T193000
DTSTAMP:20260313T092914Z
SUMMARY:Deicide * Immolation
DESCRIPTION:* Deicide * Immolation * 

Sunday, May 24, 2026
Doors 630pm | Show 730pm
Sunshine Theater 
ABQ NM 
all ages

Advance tickets - $27 + service charge
Ticket prices may increase day of show
https://www.facebook.com/events/1867437140608610

CREATED:20260313T092914Z
URL;VALUE=URI:http://holdmyticket.com/event/458364 

DTEND:20260524T223000
END:VEVENT
BEGIN:VEVENT
SEQUENCE:2
TRANSP:OPAQUE
UID:f7f62fb3030fb73ee0a52d72a147e0b9
DTSTART:20260529T190000
DTSTAMP:20260413T091309Z
SUMMARY:Archspire * Undeath * Crown Magnetar * Mutilation Barbeque
DESCRIPTION:* Archspire * Undeath * Crown Magnetar * Mutilation Barbeque *
Long Roads Big Loads Tour

Friday, May 29, 2026
Doors 630pm | Show 730pm
Sunshine Theater 
ABQ NM 
all ages 

Advance tickets - $25 + service charge
Ticket prices may increase day of show
https://www.facebook.com/events/2105082340296653

NOW ON SALE!! 
CREATED:20260413T091309Z
URL;VALUE=URI:http://holdmyticket.com/event/454771 

DTEND:20260529T230000
END:VEVENT
BEGIN:VEVENT
SEQUENCE:2
TRANSP:OPAQUE
UID:47ca9188fea858146b159d9d75d223f9
DTSTART:20260602T193000
DTSTAMP:20260319T121746Z
SUMMARY:Kottonmouth Kings - 30 Years of Underground
DESCRIPTION:* Kottonmouth Kings * A Killer's Confession * Kung Fu Vampire *
30 Years of Underground

Tuesday, June 2, 2026
Doors 7pm | Show 8pm
Sunshine Theater
ABQ NM
all ages

Advance tickets - $25 + service charge
Ticket prices may increase day of show
https://www.facebook.com/events/1253099983424452

CREATED:20260319T121746Z
URL;VALUE=URI:http://holdmyticket.com/event/457987 

DTEND:20260602T223000
END:VEVENT
BEGIN:VEVENT
SEQUENCE:2
TRANSP:OPAQUE
UID:b7723009750a7b98102d303a13471755
DTSTART:20260722T200000
DTSTAMP:20260403T095358Z
SUMMARY:Allison - Euforia USA Tour
DESCRIPTION:* Allison * Forever Came Calling *
Euforia USA Tour

Wednesday, July 22, 2026
Doors 7pm | Show 8pm
Sunshine Theater
ABQ NM
all ages

Advance tickets - $25 + service charge
Ticket prices may increase day of show
https://www.facebook.com/events/1177469717680490

NOW ON SALE!! 
CREATED:20260403T095358Z
URL;VALUE=URI:http://holdmyticket.com/event/454981 

DTEND:20260722T230000
END:VEVENT
BEGIN:VEVENT
SEQUENCE:2
TRANSP:OPAQUE
UID:d4fc87f8727faa23828ec50807130b36
DTSTART:20261216T193000
DTSTAMP:20260211T090118Z
SUMMARY:Aly & AJ (New Date!)
DESCRIPTION:Aly & AJ, comprised of sisters Aly and AJ Michalka, have captivated audiences around the world with their stirring harmonies, relatable lyrics, and distinctive blend of pop and indie-rock influences. Aly & AJ first burst onto the scene with their debut album Into the Rush, featuring the hit single "Rush." Their follow-up, Insomniatic, showcased their growth as artists, exploring deeper themes and curating a more defined musical identity. With hits like "Potential Breakup Song" and "Chemicals React," Aly & AJ ignited the soundtracks of our lives and solidified their status as superstars.
CREATED:20260211T090118Z
URL;VALUE=URI:http://holdmyticket.com/event/455787 

DTEND:20261216T230000
END:VEVENT
END:VCALENDAR