BEGIN:VCALENDAR
METHOD:PUBLISH
X-WR-TIMEZONE:America/Chicago
PRODID:-//Hold My Ticket.//HMT Web App//EN
CALSCALE:GREGORIAN
METHOD:PUBLISH
X-WR-CALNAME:Topeka Sports Cabaret
X-WR-CALDESC:Upcoming events at Topeka Sports Cabaret
BEGIN:VTIMEZONE
TZID:America/Chicago 
END:VTIMEZONE
BEGIN:VEVENT
SEQUENCE:2
TRANSP:OPAQUE
UID:3100ebff85f34c97e74f060ba09081f7
DTSTART:20260829T210000
DTSTAMP:20260421T185351Z
SUMMARY:LEFTY GUNPLAY LIVE IN TOPEKA,KS 8-29-2026
DESCRIPTION:Deuce Alley Productions Presents:

GRAMMY AWARD WINNER
LEFTY GUNPLAY LIVE!!!!

 SATURDAY AUGUST 29TH 2026

Topeka Sports Cabaret
4216 NE Seward Ave
Topeka,Ks 66606

18 AND UP SHOW

DOORS OPEN @8PM SHOW @ 9PM
$25 PRESALE
$150 VIP Meet and Greet

ONLINE TICKETS AVAILABLE @ 

Show and ticket info contact 785-969-7879

HOSTED BY DJ FAB


CREATED:20260421T185351Z
URL;VALUE=URI:http://holdmyticket.com/event/462125 

DTEND:20260830T020000
END:VEVENT
END:VCALENDAR