BEGIN:VCALENDAR
METHOD:PUBLISH
X-WR-TIMEZONE:America/Denver
PRODID:-//Hold My Ticket.//HMT Web App//EN
CALSCALE:GREGORIAN
METHOD:PUBLISH
X-WR-CALNAME:KiMo Theatre
X-WR-CALDESC:Upcoming events at KiMo Theatre
BEGIN:VTIMEZONE
TZID:America/Denver 
END:VTIMEZONE
BEGIN:VEVENT
SEQUENCE:2
TRANSP:OPAQUE
UID:cfe60a9cb6e645875ddc259d9508b405
DTSTART:20260430T193000
DTSTAMP:20251226T073511Z
SUMMARY:Eric Johnson
DESCRIPTION:One of the most outstanding instrumentalists in rock over the past 40 years, Texas guitarist Eric Johnson was already a legend before he recorded his first album. By the early 1980s, many celebrated guitarists were singing  the praises of this skinny kid from Austin with the mind-melting chops. Comparisons were made to such guitar heroes as Jeff Beck and Jimi Hendrix and when he joined the '70s Austin fusion band Electromagnets they were being hailed as "the Mahavishnu Orchestra of Texas." With the release of his highly-anticipated 1986 solo debut  album Tones, the underground guitar legend finally emerged onto the scene fully-formed.
CREATED:20251226T073511Z
URL;VALUE=URI:http://holdmyticket.com/event/455648 

DTEND:20260430T220000
END:VEVENT
BEGIN:VEVENT
SEQUENCE:2
TRANSP:OPAQUE
UID:5486f3513aa3c27e870d6828cf93645d
DTSTART:20260528T193000
DTSTAMP:20260115T163032Z
SUMMARY:Tab Benoit
DESCRIPTION:Join us for an exhilarating evening as the legendary multi-Grammy nominee and wetlands activist Tab Benoit brings his high-energy Soul of the Swamp Tour 2026 to the KiMo. Known for his passionate performances and deep-rooted connection to the swamp, Tab Benoit is a true master of his craft, boasting over 20 releases that showcase his unique artistry.
CREATED:20260115T163032Z
URL;VALUE=URI:http://holdmyticket.com/event/455457 

DTEND:20260528T220000
END:VEVENT
BEGIN:VEVENT
SEQUENCE:2
TRANSP:OPAQUE
UID:f5ff80fa9752de3abb62075b60da8efd
DTSTART:20260628T193000
DTSTAMP:20260417T115957Z
SUMMARY:Both Sides Now
DESCRIPTION:"Two singer-songwriters sit on the edge of a cliff..." With these words, we are drawn into the world of Both Sides Now--a theatrical concert that explores the music and lives of long-time friends and one-time lovers, Joni Mitchell and Leonard Cohen. Created by and starring Robbie Schaefer and Danielle Wertz, the cabaret-style performance traverses decades alongside songs such as "A Case of You," "Hallelujah," "Big Yellow Taxi," "Suzanne," and many more. Both Sides Now is at once a piece of the 60s and 70s, and of right now--offering us a story about the messiness of being human, of lives persistently lived at the edge of growth, and of finding the courage to turn toward one another, again and again.
CREATED:20260417T115957Z
URL;VALUE=URI:http://holdmyticket.com/event/461625 

DTEND:20260628T220000
END:VEVENT
BEGIN:VEVENT
SEQUENCE:2
TRANSP:OPAQUE
UID:76c337c082f6b389b9a089a83dda1819
DTSTART:20260808T193000
DTSTAMP:20260223T170954Z
SUMMARY:Steve Earle
DESCRIPTION:Steve Earle is one of the most acclaimed singer-songwriters of his generation. A protegé of legendary songwriters Townes Van Zandt and Guy Clark, he quickly became a master storyteller in his own right, with his songs being recorded by Johnny Cash, Waylon Jennings, Joan Baez, Emmylou Harris, The Pretenders, and countless others. 1986 saw the release of his record Guitar Town, which shot to number one on the country charts and is now regarded as a classic of the Americana genre. Subsequent releases like The Revolution Starts...Now (2004), Washington Square Serenade (2007), and TOWNES (2009) received consecutive Grammy Awards.
CREATED:20260223T170954Z
URL;VALUE=URI:http://holdmyticket.com/event/457598 

DTEND:20260808T220000
END:VEVENT
BEGIN:VEVENT
SEQUENCE:2
TRANSP:OPAQUE
UID:681d5195d4f4b861938809c3e8109072
DTSTART:20270223T193000
DTSTAMP:20260306T131859Z
SUMMARY:International Guitar Night XXVII
DESCRIPTION:International Guitar Night is the world's premier touring guitar festival, each show bringing together the most interesting and innovative acoustic guitarists to exchange musical ideas in a public concert setting. For each tour, IGN founder Brian Gore brings together a new cast of guitar luminaries for special evenings of solos, duets, and quartets that highlight the dexterity and diversity within the world of acoustic guitar. Brian founded IGN in 1995 as a forum for the world's finest guitarists/composers to play their latest original songs and share musical ideas and talent with their peers.
CREATED:20260306T131859Z
URL;VALUE=URI:http://holdmyticket.com/event/458482 

DTEND:20270223T220000
END:VEVENT
END:VCALENDAR