BEGIN:VCALENDAR
METHOD:PUBLISH
X-WR-TIMEZONE:America/Denver
PRODID:-//Hold My Ticket.//HMT Web App//EN
CALSCALE:GREGORIAN
METHOD:PUBLISH
X-WR-CALNAME:The Oriental Theater
X-WR-CALDESC:Upcoming events at The Oriental Theater
BEGIN:VTIMEZONE
TZID:America/Denver 
END:VTIMEZONE
BEGIN:VEVENT
SEQUENCE:2
TRANSP:OPAQUE
UID:ed3dae61bbac60269e0f3d8c9789ca4c
DTSTART:20260421T200000
DTSTAMP:20260121T120858Z
SUMMARY:Paul Gilbert 
DESCRIPTION:
CREATED:20260121T120858Z
URL;VALUE=URI:http://holdmyticket.com/event/457230 

DTEND:20260421T230000
END:VEVENT
BEGIN:VEVENT
SEQUENCE:2
TRANSP:OPAQUE
UID:4e0994b8ed39a8da880597ea6a972a0c
DTSTART:20260422T180000
DTSTAMP:20260305T162058Z
SUMMARY:Terror
DESCRIPTION:
CREATED:20260305T162058Z
URL;VALUE=URI:http://holdmyticket.com/event/458390 

DTEND:20260422T230000
END:VEVENT
BEGIN:VEVENT
SEQUENCE:2
TRANSP:OPAQUE
UID:986f77b2235dee99dce116c91dd36fee
DTSTART:20260424T190000
DTSTAMP:20260316T141822Z
SUMMARY:He Is Legend
DESCRIPTION:
CREATED:20260316T141822Z
URL;VALUE=URI:http://holdmyticket.com/event/458020 

DTEND:20260424T230000
END:VEVENT
BEGIN:VEVENT
SEQUENCE:2
TRANSP:OPAQUE
UID:45a4967295ef2a13b19282efda03ae9f
DTSTART:20260425T200000
DTSTAMP:20260121T120858Z
SUMMARY:Lebanon Hanover
DESCRIPTION:
CREATED:20260121T120858Z
URL;VALUE=URI:http://holdmyticket.com/event/447434 

DTEND:20260425T230000
END:VEVENT
BEGIN:VEVENT
SEQUENCE:2
TRANSP:OPAQUE
UID:a2c5313cf5ffd8d1fa5020a31ddcd594
DTSTART:20260426T183000
DTSTAMP:20260317T063811Z
SUMMARY:The Hideout One Year Anniversary Showcase
DESCRIPTION:
CREATED:20260317T063811Z
URL;VALUE=URI:http://holdmyticket.com/event/460657 

DTEND:20260426T220000
END:VEVENT
BEGIN:VEVENT
SEQUENCE:2
TRANSP:OPAQUE
UID:2e2d32d1045467b946dce90ccf93ff67
DTSTART:20260428T200000
DTSTAMP:20260311T105605Z
SUMMARY:Jason D Williams
DESCRIPTION:
CREATED:20260311T105605Z
URL;VALUE=URI:http://holdmyticket.com/event/460184 

DTEND:20260428T230000
END:VEVENT
BEGIN:VEVENT
SEQUENCE:2
TRANSP:OPAQUE
UID:a024bebbc2fcd76b15d8fe7a1c4f0ac0
DTSTART:20260501T193000
DTSTAMP:20260311T100029Z
SUMMARY:The Pulp MX Show - Live! 
DESCRIPTION:
CREATED:20260311T100029Z
URL;VALUE=URI:http://holdmyticket.com/event/460039 

DTEND:20260501T220000
END:VEVENT
BEGIN:VEVENT
SEQUENCE:2
TRANSP:OPAQUE
UID:5d60d62ea2b72c2ae72799374f7cc3cb
DTSTART:20260502T200000
DTSTAMP:20260204T103503Z
SUMMARY:Emo Vs Pop Punk
DESCRIPTION:
CREATED:20260204T103503Z
URL;VALUE=URI:http://holdmyticket.com/event/458114 

DTEND:20260502T234500
END:VEVENT
BEGIN:VEVENT
SEQUENCE:2
TRANSP:OPAQUE
UID:fba1d2cf794cc45152eef23b0b79409f
DTSTART:20260503T170000
DTSTAMP:20260302T110018Z
SUMMARY:Trio Los Panchos 
DESCRIPTION:
CREATED:20260302T110018Z
URL;VALUE=URI:http://holdmyticket.com/event/459272 

DTEND:20260503T193000
END:VEVENT
BEGIN:VEVENT
SEQUENCE:2
TRANSP:OPAQUE
UID:cd33d38fd84d5422a27be19269605204
DTSTART:20260508T200000
DTSTAMP:20260410T163620Z
SUMMARY:Danae Hays: The Buckwild Tour
DESCRIPTION:
CREATED:20260410T163620Z
URL;VALUE=URI:http://holdmyticket.com/event/455850 

DTEND:20260508T230000
END:VEVENT
BEGIN:VEVENT
SEQUENCE:2
TRANSP:OPAQUE
UID:2221cf663a1e995e4391745bdefec783
DTSTART:20260509T183000
DTSTAMP:20260402T132557Z
SUMMARY:U2 & SHINEDOWN TRIBUTES!
DESCRIPTION:
CREATED:20260402T132557Z
URL;VALUE=URI:http://holdmyticket.com/event/461471 

DTEND:20260509T224500
END:VEVENT
BEGIN:VEVENT
SEQUENCE:2
TRANSP:OPAQUE
UID:f4e812cd3cefcb9969bd0dd2dad7f2bb
DTSTART:20260513T193000
DTSTAMP:20260317T134616Z
SUMMARY:JACQUELINE NOVAK: 2026 TOUR 
DESCRIPTION:
CREATED:20260317T134616Z
URL;VALUE=URI:http://holdmyticket.com/event/457452 

DTEND:20260513T220000
END:VEVENT
BEGIN:VEVENT
SEQUENCE:2
TRANSP:OPAQUE
UID:fa329989bc5d48499ceae7bdbeb1da61
DTSTART:20260515T183000
DTSTAMP:20260403T100023Z
SUMMARY:Pop-Punk Tribute: White Stripes, Fallout Boy, Sum 41, Jimmy Eat World & MORE!
DESCRIPTION:
CREATED:20260403T100023Z
URL;VALUE=URI:http://holdmyticket.com/event/461526 

DTEND:20260515T224500
END:VEVENT
BEGIN:VEVENT
SEQUENCE:2
TRANSP:OPAQUE
UID:1698c24688e47cd95afd2cb5f8fbc991
DTSTART:20260516T173000
DTSTAMP:20260324T100033Z
SUMMARY:Chris Fest! DAY 1
DESCRIPTION:
CREATED:20260324T100033Z
URL;VALUE=URI:http://holdmyticket.com/event/460889 

DTEND:20260516T224500
END:VEVENT
BEGIN:VEVENT
SEQUENCE:2
TRANSP:OPAQUE
UID:8aaeb9050e171e32d1e3a1ee5f83616d
DTSTART:20260517T163000
DTSTAMP:20260324T100033Z
SUMMARY:Chris Fest! DAY 2
DESCRIPTION:
CREATED:20260324T100033Z
URL;VALUE=URI:http://holdmyticket.com/event/460890 

DTEND:20260517T224500
END:VEVENT
BEGIN:VEVENT
SEQUENCE:2
TRANSP:OPAQUE
UID:57fddf051d3a6d73791c3af1317e14b2
DTSTART:20260520T190000
DTSTAMP:20260127T090009Z
SUMMARY:The Decibel Magazine Tour 2026
DESCRIPTION:
CREATED:20260127T090009Z
URL;VALUE=URI:http://holdmyticket.com/event/457658 

DTEND:20260520T230000
END:VEVENT
BEGIN:VEVENT
SEQUENCE:2
TRANSP:OPAQUE
UID:7b362de76314389627e303da2c1388b2
DTSTART:20260522T190000
DTSTAMP:20260323T100016Z
SUMMARY:Neyla Pekarek 
DESCRIPTION:
CREATED:20260323T100016Z
URL;VALUE=URI:http://holdmyticket.com/event/460880 

DTEND:20260522T224500
END:VEVENT
BEGIN:VEVENT
SEQUENCE:2
TRANSP:OPAQUE
UID:620dd134a04af08c6241838685690e5b
DTSTART:20260523T200000
DTSTAMP:20260408T150031Z
SUMMARY:Screeching Weasel
DESCRIPTION:
CREATED:20260408T150031Z
URL;VALUE=URI:http://holdmyticket.com/event/459964 

DTEND:20260523T230000
END:VEVENT
BEGIN:VEVENT
SEQUENCE:2
TRANSP:OPAQUE
UID:a8e62bfe3972b9deb3eed4451cfde511
DTSTART:20260527T200000
DTSTAMP:20260413T200323Z
SUMMARY:FIINKA
DESCRIPTION:
CREATED:20260413T200323Z
URL;VALUE=URI:http://holdmyticket.com/event/461693 

DTEND:20260527T224500
END:VEVENT
BEGIN:VEVENT
SEQUENCE:2
TRANSP:OPAQUE
UID:2ccfc68eebaa0088d52b875776e06f8e
DTSTART:20260529T193000
DTSTAMP:20260406T100048Z
SUMMARY:All Star Tribute to Chad Aman! 
DESCRIPTION:
CREATED:20260406T100048Z
URL;VALUE=URI:http://holdmyticket.com/event/461473 

DTEND:20260529T224500
END:VEVENT
BEGIN:VEVENT
SEQUENCE:2
TRANSP:OPAQUE
UID:61a3d5f4d4af5f59736d193bae3ffdfe
DTSTART:20260530T190000
DTSTAMP:20260312T100018Z
SUMMARY:Tributes to Depeche Mode, Filter, and INXS!
DESCRIPTION:
CREATED:20260312T100018Z
URL;VALUE=URI:http://holdmyticket.com/event/460046 

DTEND:20260530T224500
END:VEVENT
BEGIN:VEVENT
SEQUENCE:2
TRANSP:OPAQUE
UID:3c8eec5db9eae641a5c4d2670c06f460
DTSTART:20260531T190000
DTSTAMP:20260123T115919Z
SUMMARY:Film Score Fest
DESCRIPTION:
CREATED:20260123T115919Z
URL;VALUE=URI:http://holdmyticket.com/event/457562 

DTEND:20260531T220000
END:VEVENT
BEGIN:VEVENT
SEQUENCE:2
TRANSP:OPAQUE
UID:2ad5d7386c1592789f0c295bd115f3ed
DTSTART:20260603T200000
DTSTAMP:20260121T120858Z
SUMMARY:Ladytron "Paradises"
DESCRIPTION:
CREATED:20260121T120858Z
URL;VALUE=URI:http://holdmyticket.com/event/456136 

DTEND:20260603T223000
END:VEVENT
BEGIN:VEVENT
SEQUENCE:2
TRANSP:OPAQUE
UID:0ca6655cbe5aa1f0c7f6056299dc1ae7
DTSTART:20260605T200000
DTSTAMP:20260318T094552Z
SUMMARY:Lucha Libre & Laughs: Eternal Recurrence
DESCRIPTION:
CREATED:20260318T094552Z
URL;VALUE=URI:http://holdmyticket.com/event/460734 

DTEND:20260605T230000
END:VEVENT
BEGIN:VEVENT
SEQUENCE:2
TRANSP:OPAQUE
UID:e81750f2a40b0e24bd3004be0327f6da
DTSTART:20260606T200000
DTSTAMP:20260318T094630Z
SUMMARY:Lucha Libre & Laughs: Eternal Recurrence
DESCRIPTION:
CREATED:20260318T094630Z
URL;VALUE=URI:http://holdmyticket.com/event/460735 

DTEND:20260606T230000
END:VEVENT
BEGIN:VEVENT
SEQUENCE:2
TRANSP:OPAQUE
UID:3413ba05708f44b72d65e9e1ff84f733
DTSTART:20260607T163000
DTSTAMP:20260410T100047Z
SUMMARY:The Elders 
DESCRIPTION:
CREATED:20260410T100047Z
URL;VALUE=URI:http://holdmyticket.com/event/461717 

DTEND:20260607T183000
END:VEVENT
BEGIN:VEVENT
SEQUENCE:2
TRANSP:OPAQUE
UID:4c63af44c100b6460088c50f23013b1f
DTSTART:20260612T193000
DTSTAMP:20260220T145502Z
SUMMARY:Rockstar Pole Fitness Presents: Strange Disco
DESCRIPTION:
CREATED:20260220T145502Z
URL;VALUE=URI:http://holdmyticket.com/event/458495 

DTEND:20260612T220000
END:VEVENT
BEGIN:VEVENT
SEQUENCE:2
TRANSP:OPAQUE
UID:e2a8c3b4cd329bb9a364c11ee32f71e5
DTSTART:20260613T173000
DTSTAMP:20260121T120858Z
SUMMARY:Flatline Fest: 2 Night Extreme Metal Festival Dates: June 13 - 14
DESCRIPTION:
CREATED:20260121T120858Z
URL;VALUE=URI:http://holdmyticket.com/event/456859 

DTEND:20260613T230000
END:VEVENT
BEGIN:VEVENT
SEQUENCE:2
TRANSP:OPAQUE
UID:79f5f882b3a5efc67813c6f786d144b1
DTSTART:20260613T173000
DTSTAMP:20260121T120858Z
SUMMARY:Flatline Fest Night 1: Archspire, Aborted + More
DESCRIPTION:
CREATED:20260121T120858Z
URL;VALUE=URI:http://holdmyticket.com/event/456863 

DTEND:20260613T230000
END:VEVENT
BEGIN:VEVENT
SEQUENCE:2
TRANSP:OPAQUE
UID:6767ddcdd38a7332ea225dd550fd949a
DTSTART:20260614T173000
DTSTAMP:20260121T120858Z
SUMMARY:Flatline Fest Night 2: Cattle Decapitation, Allegaeon + More
DESCRIPTION:
CREATED:20260121T120858Z
URL;VALUE=URI:http://holdmyticket.com/event/456864 

DTEND:20260614T230000
END:VEVENT
BEGIN:VEVENT
SEQUENCE:2
TRANSP:OPAQUE
UID:c2d6f294cf401d6b9c5e7b2e63e2e2e5
DTSTART:20260619T190000
DTSTAMP:20260326T113230Z
SUMMARY:Tributes to Pearl Jam, Foo Fighters, and more! 
DESCRIPTION:
CREATED:20260326T113230Z
URL;VALUE=URI:http://holdmyticket.com/event/461009 

DTEND:20260619T224500
END:VEVENT
BEGIN:VEVENT
SEQUENCE:2
TRANSP:OPAQUE
UID:08ba0524dcf574ddfcebf56730635b36
DTSTART:20260624T190000
DTSTAMP:20260213T110011Z
SUMMARY:Bug Hunter / The Narcissist Cookbook + Jam Mechanics
DESCRIPTION:Bug Hunter and The Narcissist Cookbook are bringing their show back on the road in 2026, playing their solo material as well a selection of songs from their hit songwriting podcast, Jam Mechanics.
CREATED:20260213T110011Z
URL;VALUE=URI:http://holdmyticket.com/event/458395 

DTEND:20260624T224500
END:VEVENT
BEGIN:VEVENT
SEQUENCE:2
TRANSP:OPAQUE
UID:4dfea6e1334c752ff2c0e42ff3218894
DTSTART:20260707T200000
DTSTAMP:20260326T105948Z
SUMMARY:LA Guns
DESCRIPTION:
CREATED:20260326T105948Z
URL;VALUE=URI:http://holdmyticket.com/event/458493 

DTEND:20260707T230000
END:VEVENT
BEGIN:VEVENT
SEQUENCE:2
TRANSP:OPAQUE
UID:011c66bf56144bd8684d34fe292bd411
DTSTART:20260710T193000
DTSTAMP:20260414T120259Z
SUMMARY:War Crown
DESCRIPTION:
CREATED:20260414T120259Z
URL;VALUE=URI:http://holdmyticket.com/event/461836 

DTEND:20260710T224500
END:VEVENT
BEGIN:VEVENT
SEQUENCE:2
TRANSP:OPAQUE
UID:99f0b7ddc70cca7c4d3b123094f6df3f
DTSTART:20260726T200000
DTSTAMP:20260406T100048Z
SUMMARY:Riki Rachtman
DESCRIPTION:
CREATED:20260406T100048Z
URL;VALUE=URI:http://holdmyticket.com/event/461479 

DTEND:20260726T220000
END:VEVENT
BEGIN:VEVENT
SEQUENCE:2
TRANSP:OPAQUE
UID:746a9f8cc30f80425ad920dfd105cc85
DTSTART:20260808T200000
DTSTAMP:20260127T183513Z
SUMMARY:DoKnow & DaHawmies Comedy Tour 
DESCRIPTION:
CREATED:20260127T183513Z
URL;VALUE=URI:http://holdmyticket.com/event/457660 

DTEND:20260808T224500
END:VEVENT
BEGIN:VEVENT
SEQUENCE:2
TRANSP:OPAQUE
UID:95a68cd2fbe7d4acff8e7e0bf462412a
DTSTART:20260815T163000
DTSTAMP:20260316T153509Z
SUMMARY:Mile High Power Fest
DESCRIPTION:
CREATED:20260316T153509Z
URL;VALUE=URI:http://holdmyticket.com/event/459366 

DTEND:20260815T230000
END:VEVENT
BEGIN:VEVENT
SEQUENCE:2
TRANSP:OPAQUE
UID:35083300a4c82c970303b9dc4bac45d4
DTSTART:20260822T190000
DTSTAMP:20260224T181622Z
SUMMARY:80's Bash At Mile High
DESCRIPTION:
CREATED:20260224T181622Z
URL;VALUE=URI:http://holdmyticket.com/event/459038 

DTEND:20260822T230000
END:VEVENT
BEGIN:VEVENT
SEQUENCE:2
TRANSP:OPAQUE
UID:c9f790c51a69d60daff4d7bd7fd0e3b1
DTSTART:20260828T200000
DTSTAMP:20260201T193953Z
SUMMARY:Concrete & Jerry Garcia 
DESCRIPTION:
CREATED:20260201T193953Z
URL;VALUE=URI:http://holdmyticket.com/event/457993 

DTEND:20260828T224500
END:VEVENT
BEGIN:VEVENT
SEQUENCE:2
TRANSP:OPAQUE
UID:cc58b3516c2c44b28059f46ee33bb5ab
DTSTART:20260829T200000
DTSTAMP:20260201T194007Z
SUMMARY:Concrete & Jerry Garcia
DESCRIPTION:
CREATED:20260201T194007Z
URL;VALUE=URI:http://holdmyticket.com/event/457994 

DTEND:20260829T224500
END:VEVENT
BEGIN:VEVENT
SEQUENCE:2
TRANSP:OPAQUE
UID:2b783d9bd352f9ffff1376da28ab7c8c
DTSTART:20260912T200000
DTSTAMP:20260121T120858Z
SUMMARY:Steve Hofstetter
DESCRIPTION:
CREATED:20260121T120858Z
URL;VALUE=URI:http://holdmyticket.com/event/451476 

DTEND:20260912T223000
END:VEVENT
BEGIN:VEVENT
SEQUENCE:2
TRANSP:OPAQUE
UID:9b24b0c01512583a91a89f98e2956ebb
DTSTART:20260926T200000
DTSTAMP:20260210T132855Z
SUMMARY:Dad Rock Night (2000s Rock Tribute) presented by Council Hill 
DESCRIPTION:
CREATED:20260210T132855Z
URL;VALUE=URI:http://holdmyticket.com/event/458093 

DTEND:20260926T224500
END:VEVENT
BEGIN:VEVENT
SEQUENCE:2
TRANSP:OPAQUE
UID:37beb4874817f5e115bb5cea74d0fd89
DTSTART:20261114T190000
DTSTAMP:20260313T162743Z
SUMMARY:Fear Factory
DESCRIPTION:
CREATED:20260313T162743Z
URL;VALUE=URI:http://holdmyticket.com/event/459965 

DTEND:20261114T230000
END:VEVENT
END:VCALENDAR