BEGIN:VCALENDAR
METHOD:PUBLISH
X-WR-TIMEZONE:America/Denver
PRODID:-//Hold My Ticket.//HMT Web App//EN
CALSCALE:GREGORIAN
METHOD:PUBLISH
X-WR-CALNAME:The Dirty Bourbon, Dance Hall & Saloon
X-WR-CALDESC:Upcoming events at The Dirty Bourbon, Dance Hall & Saloon
BEGIN:VTIMEZONE
TZID:America/Denver 
END:VTIMEZONE
BEGIN:VEVENT
SEQUENCE:2
TRANSP:OPAQUE
UID:5fcef4fb4ccac46d2a303c7c5b722d54
DTSTART:20260423T210000
DTSTAMP:20260325T173328Z
SUMMARY:Austin Van 
DESCRIPTION:
CREATED:20260325T173328Z
URL;VALUE=URI:http://holdmyticket.com/event/458172 

DTEND:20260424T020000
END:VEVENT
BEGIN:VEVENT
SEQUENCE:2
TRANSP:OPAQUE
UID:f09ab210dc0bde74ce40ca12e7c0c2ec
DTSTART:20260424T210000
DTSTAMP:20260325T174412Z
SUMMARY:Danny Duran
DESCRIPTION:
CREATED:20260325T174412Z
URL;VALUE=URI:http://holdmyticket.com/event/458242 

DTEND:20260425T020000
END:VEVENT
BEGIN:VEVENT
SEQUENCE:2
TRANSP:OPAQUE
UID:db67f22be0535c7a1cc1aa18e13a6fda
DTSTART:20260425T133000
DTSTAMP:20260413T112806Z
SUMMARY:BINGO at Bourbon House
DESCRIPTION:
CREATED:20260413T112806Z
URL;VALUE=URI:http://holdmyticket.com/event/461816 

DTEND:20260425T153000
END:VEVENT
BEGIN:VEVENT
SEQUENCE:2
TRANSP:OPAQUE
UID:d066512bac8e288288f3547a98619b99
DTSTART:20260425T210000
DTSTAMP:20260407T174545Z
SUMMARY:Western Rewind
DESCRIPTION:
CREATED:20260407T174545Z
URL;VALUE=URI:http://holdmyticket.com/event/454301 

DTEND:20260426T010000
END:VEVENT
BEGIN:VEVENT
SEQUENCE:2
TRANSP:OPAQUE
UID:64b3a54992c602069e51890ae3d916ba
DTSTART:20260429T190000
DTSTAMP:20260331T121327Z
SUMMARY:Karaoke 
DESCRIPTION:
CREATED:20260331T121327Z
URL;VALUE=URI:http://holdmyticket.com/event/461267 

DTEND:20260429T220000
END:VEVENT
BEGIN:VEVENT
SEQUENCE:2
TRANSP:OPAQUE
UID:c14a08b97132bc87ab0e9fd845960f25
DTSTART:20260430T210000
DTSTAMP:20260325T174649Z
SUMMARY:Peyton Grace Music
DESCRIPTION:
CREATED:20260325T174649Z
URL;VALUE=URI:http://holdmyticket.com/event/452979 

DTEND:20260501T020000
END:VEVENT
BEGIN:VEVENT
SEQUENCE:2
TRANSP:OPAQUE
UID:41ce8d20055b92176203c4891ff1e909
DTSTART:20260501T170000
DTSTAMP:20260422T123646Z
SUMMARY:Honky Tonk For Hope
DESCRIPTION:
CREATED:20260422T123646Z
URL;VALUE=URI:http://holdmyticket.com/event/462165 

DTEND:20260501T200000
END:VEVENT
BEGIN:VEVENT
SEQUENCE:2
TRANSP:OPAQUE
UID:d9f309a0e22403b1d79d2f82ad02d026
DTSTART:20260501T210000
DTSTAMP:20260422T123718Z
SUMMARY:Peyton Grace Music
DESCRIPTION:
CREATED:20260422T123718Z
URL;VALUE=URI:http://holdmyticket.com/event/452980 

DTEND:20260502T020000
END:VEVENT
BEGIN:VEVENT
SEQUENCE:2
TRANSP:OPAQUE
UID:9a18caea5f00f6403d13b51cc32cdba0
DTSTART:20260502T150000
DTSTAMP:20260329T121012Z
SUMMARY:Kentucky Derby Watch Party! 
DESCRIPTION:
CREATED:20260329T121012Z
URL;VALUE=URI:http://holdmyticket.com/event/461167 

DTEND:20260502T170000
END:VEVENT
BEGIN:VEVENT
SEQUENCE:2
TRANSP:OPAQUE
UID:34907903e8740debb0fc26d917a1bfdf
DTSTART:20260502T210000
DTSTAMP:20260325T174649Z
SUMMARY:Peyton Grace Music
DESCRIPTION:
CREATED:20260325T174649Z
URL;VALUE=URI:http://holdmyticket.com/event/452981 

DTEND:20260503T020000
END:VEVENT
BEGIN:VEVENT
SEQUENCE:2
TRANSP:OPAQUE
UID:523805014e083532d2a0d0fd2695b1a2
DTSTART:20260503T180000
DTSTAMP:20260423T105719Z
SUMMARY:Let The Wookie Win
DESCRIPTION:
CREATED:20260423T105719Z
URL;VALUE=URI:http://holdmyticket.com/event/462191 

DTEND:20260503T200000
END:VEVENT
BEGIN:VEVENT
SEQUENCE:2
TRANSP:OPAQUE
UID:ee23474606c0ac121528cb3d20095b75
DTSTART:20260506T190000
DTSTAMP:20260331T121327Z
SUMMARY:Karaoke 
DESCRIPTION:
CREATED:20260331T121327Z
URL;VALUE=URI:http://holdmyticket.com/event/461268 

DTEND:20260506T220000
END:VEVENT
BEGIN:VEVENT
SEQUENCE:2
TRANSP:OPAQUE
UID:0b1de0f3b8e5fe52d4cdf1c57e3c3f5c
DTSTART:20260507T210000
DTSTAMP:20260414T143433Z
SUMMARY:Christian Warren Band
DESCRIPTION:
CREATED:20260414T143433Z
URL;VALUE=URI:http://holdmyticket.com/event/452982 

DTEND:20260508T020000
END:VEVENT
BEGIN:VEVENT
SEQUENCE:2
TRANSP:OPAQUE
UID:12fccbd6a6a6d89c165499414a72f11d
DTSTART:20260508T210000
DTSTAMP:20260414T143645Z
SUMMARY:Christian Warren Band
DESCRIPTION:
CREATED:20260414T143645Z
URL;VALUE=URI:http://holdmyticket.com/event/452983 

DTEND:20260509T020000
END:VEVENT
BEGIN:VEVENT
SEQUENCE:2
TRANSP:OPAQUE
UID:20768b3c7e4f8dd03767612f0b72c22e
DTSTART:20260509T210000
DTSTAMP:20260414T143508Z
SUMMARY:Christian Warren Band
DESCRIPTION:
CREATED:20260414T143508Z
URL;VALUE=URI:http://holdmyticket.com/event/452968 

DTEND:20260510T020000
END:VEVENT
BEGIN:VEVENT
SEQUENCE:2
TRANSP:OPAQUE
UID:2e5553c977ff87e3e9bb8b8b85e33688
DTSTART:20260514T210000
DTSTAMP:20260414T173609Z
SUMMARY:Nathaniel Krantz
DESCRIPTION:
CREATED:20260414T173609Z
URL;VALUE=URI:http://holdmyticket.com/event/454464 

DTEND:20260515T020000
END:VEVENT
BEGIN:VEVENT
SEQUENCE:2
TRANSP:OPAQUE
UID:33ae23c3e2986e3a54ebf9f2d90ed7e5
DTSTART:20260515T210000
DTSTAMP:20260414T173609Z
SUMMARY:Nathaniel Krantz
DESCRIPTION:
CREATED:20260414T173609Z
URL;VALUE=URI:http://holdmyticket.com/event/454465 

DTEND:20260516T020000
END:VEVENT
BEGIN:VEVENT
SEQUENCE:2
TRANSP:OPAQUE
UID:ae1be6d31300240a3f1bfd3a71e32d14
DTSTART:20260516T210000
DTSTAMP:20260414T173609Z
SUMMARY:Nathaniel Krantz
DESCRIPTION:
CREATED:20260414T173609Z
URL;VALUE=URI:http://holdmyticket.com/event/454466 

DTEND:20260517T020000
END:VEVENT
BEGIN:VEVENT
SEQUENCE:2
TRANSP:OPAQUE
UID:ddc1482b953e6790fd480d113b4717bc
DTSTART:20260521T210000
DTSTAMP:20260414T143947Z
SUMMARY:Brandon Saiz Band 
DESCRIPTION:
CREATED:20260414T143947Z
URL;VALUE=URI:http://holdmyticket.com/event/453158 

DTEND:20260522T020000
END:VEVENT
BEGIN:VEVENT
SEQUENCE:2
TRANSP:OPAQUE
UID:ae12f16e959064e7b5e27ee92136d8aa
DTSTART:20260522T210000
DTSTAMP:20260414T144005Z
SUMMARY:Brandon Saiz Band 
DESCRIPTION:
CREATED:20260414T144005Z
URL;VALUE=URI:http://holdmyticket.com/event/453159 

DTEND:20260523T020000
END:VEVENT
BEGIN:VEVENT
SEQUENCE:2
TRANSP:OPAQUE
UID:06275e7a5a396645e6ca33b49b2a7cfb
DTSTART:20260523T210000
DTSTAMP:20260414T174141Z
SUMMARY:Loaded 
DESCRIPTION:
CREATED:20260414T174141Z
URL;VALUE=URI:http://holdmyticket.com/event/453160 

DTEND:20260524T020000
END:VEVENT
BEGIN:VEVENT
SEQUENCE:2
TRANSP:OPAQUE
UID:5b097ba32d7413e0db31c5c49c8c088b
DTSTART:20260525T200000
DTSTAMP:20260420T151439Z
SUMMARY:Micro Maidens
DESCRIPTION:
CREATED:20260420T151439Z
URL;VALUE=URI:http://holdmyticket.com/event/462089 

DTEND:20260525T230000
END:VEVENT
BEGIN:VEVENT
SEQUENCE:2
TRANSP:OPAQUE
UID:76fc43078bccb2c47e4574d4e9d31929
DTSTART:20260528T210000
DTSTAMP:20260414T143714Z
SUMMARY:Chad Freeman & Redline
DESCRIPTION:
CREATED:20260414T143714Z
URL;VALUE=URI:http://holdmyticket.com/event/452985 

DTEND:20260529T020000
END:VEVENT
BEGIN:VEVENT
SEQUENCE:2
TRANSP:OPAQUE
UID:2b7a107a8b73a2a8318ef048b6a5a08c
DTSTART:20260529T210000
DTSTAMP:20260414T143714Z
SUMMARY:Chad Freeman &amp; Redline
DESCRIPTION:
CREATED:20260414T143714Z
URL;VALUE=URI:http://holdmyticket.com/event/452986 

DTEND:20260530T020000
END:VEVENT
BEGIN:VEVENT
SEQUENCE:2
TRANSP:OPAQUE
UID:1cfa523c8929856f04aa7f3d0636d3ff
DTSTART:20260530T210000
DTSTAMP:20260414T143714Z
SUMMARY:Chad Freeman &amp; Redline
DESCRIPTION:
CREATED:20260414T143714Z
URL;VALUE=URI:http://holdmyticket.com/event/452987 

DTEND:20260531T020000
END:VEVENT
BEGIN:VEVENT
SEQUENCE:2
TRANSP:OPAQUE
UID:f85f5940c0f7bfe80e461abd91890e8e
DTSTART:20260604T210000
DTSTAMP:20260313T110843Z
SUMMARY:Danny Duran
DESCRIPTION:
CREATED:20260313T110843Z
URL;VALUE=URI:http://holdmyticket.com/event/454298 

DTEND:20260605T020000
END:VEVENT
BEGIN:VEVENT
SEQUENCE:2
TRANSP:OPAQUE
UID:b0a0a426ab66400743cb7a828afb4560
DTSTART:20260605T190000
DTSTAMP:20260407T195538Z
SUMMARY:Double Wide 
DESCRIPTION:
CREATED:20260407T195538Z
URL;VALUE=URI:http://holdmyticket.com/event/454299 

DTEND:20260606T020000
END:VEVENT
BEGIN:VEVENT
SEQUENCE:2
TRANSP:OPAQUE
UID:a8b0fdad27b7166013a3103d8055baef
DTSTART:20260606T210000
DTSTAMP:20260313T110844Z
SUMMARY:Danny Duran
DESCRIPTION:
CREATED:20260313T110844Z
URL;VALUE=URI:http://holdmyticket.com/event/454300 

DTEND:20260607T020000
END:VEVENT
BEGIN:VEVENT
SEQUENCE:2
TRANSP:OPAQUE
UID:7a2428c569657f80308a1b24c3e9e340
DTSTART:20260611T210000
DTSTAMP:20260121T120858Z
SUMMARY:Abe Mac Band 
DESCRIPTION:
CREATED:20260121T120858Z
URL;VALUE=URI:http://holdmyticket.com/event/452859 

DTEND:20260612T020000
END:VEVENT
BEGIN:VEVENT
SEQUENCE:2
TRANSP:OPAQUE
UID:428d0bb81c193ffb34cad8aa3eca75cc
DTSTART:20260612T210000
DTSTAMP:20260414T182902Z
SUMMARY:Pecos & The Rooftops
DESCRIPTION:
CREATED:20260414T182902Z
URL;VALUE=URI:http://holdmyticket.com/event/452860 

DTEND:20260613T020000
END:VEVENT
BEGIN:VEVENT
SEQUENCE:2
TRANSP:OPAQUE
UID:521f66d7bda3a53416df8df0a9aa5b8f
DTSTART:20260613T210000
DTSTAMP:20260121T120858Z
SUMMARY:Abe Mac Band 
DESCRIPTION:
CREATED:20260121T120858Z
URL;VALUE=URI:http://holdmyticket.com/event/452861 

DTEND:20260614T020000
END:VEVENT
BEGIN:VEVENT
SEQUENCE:2
TRANSP:OPAQUE
UID:e7d4a9dddb6497330808858ea748c244
DTSTART:20260618T210000
DTSTAMP:20260121T120858Z
SUMMARY:Jeffrey Alan Band
DESCRIPTION:
CREATED:20260121T120858Z
URL;VALUE=URI:http://holdmyticket.com/event/452865 

DTEND:20260619T020000
END:VEVENT
BEGIN:VEVENT
SEQUENCE:2
TRANSP:OPAQUE
UID:353c00be73fac8c7eb6f595d8404e6d7
DTSTART:20260619T210000
DTSTAMP:20260121T120858Z
SUMMARY:Jeffrey Alan Band
DESCRIPTION:
CREATED:20260121T120858Z
URL;VALUE=URI:http://holdmyticket.com/event/452866 

DTEND:20260620T020000
END:VEVENT
BEGIN:VEVENT
SEQUENCE:2
TRANSP:OPAQUE
UID:886a14d7400fd91490bd18131aff3e2d
DTSTART:20260620T210000
DTSTAMP:20260121T120858Z
SUMMARY:Jeffrey Alan Band
DESCRIPTION:
CREATED:20260121T120858Z
URL;VALUE=URI:http://holdmyticket.com/event/452867 

DTEND:20260621T020000
END:VEVENT
BEGIN:VEVENT
SEQUENCE:2
TRANSP:OPAQUE
UID:2e020297d4da2c488333a884af055455
DTSTART:20260625T210000
DTSTAMP:20260304T133938Z
SUMMARY:Union Gray
DESCRIPTION:
CREATED:20260304T133938Z
URL;VALUE=URI:http://holdmyticket.com/event/452988 

DTEND:20260626T020000
END:VEVENT
BEGIN:VEVENT
SEQUENCE:2
TRANSP:OPAQUE
UID:a29bdd5011ac187c2f61bfd6377454d8
DTSTART:20260626T210000
DTSTAMP:20260304T133938Z
SUMMARY:Union Gray
DESCRIPTION:
CREATED:20260304T133938Z
URL;VALUE=URI:http://holdmyticket.com/event/452989 

DTEND:20260627T020000
END:VEVENT
BEGIN:VEVENT
SEQUENCE:2
TRANSP:OPAQUE
UID:44bfa9ab8154fc65f8b45e2a5b866b5c
DTSTART:20260627T210000
DTSTAMP:20260304T133938Z
SUMMARY:Union Gray
DESCRIPTION:
CREATED:20260304T133938Z
URL;VALUE=URI:http://holdmyticket.com/event/452990 

DTEND:20260628T020000
END:VEVENT
BEGIN:VEVENT
SEQUENCE:2
TRANSP:OPAQUE
UID:7152622d0b65a67f1f112681ceb16166
DTSTART:20260702T210000
DTSTAMP:20260410T121143Z
SUMMARY:Mustang Disposition
DESCRIPTION:
CREATED:20260410T121143Z
URL;VALUE=URI:http://holdmyticket.com/event/461740 

DTEND:20260703T020000
END:VEVENT
BEGIN:VEVENT
SEQUENCE:2
TRANSP:OPAQUE
UID:2ab5b83b3ebccef5f30c27b9078eb998
DTSTART:20260703T210000
DTSTAMP:20260410T121143Z
SUMMARY:Mustang Disposition
DESCRIPTION:
CREATED:20260410T121143Z
URL;VALUE=URI:http://holdmyticket.com/event/461741 

DTEND:20260704T020000
END:VEVENT
BEGIN:VEVENT
SEQUENCE:2
TRANSP:OPAQUE
UID:ff44758e0164c9aef46ec9c4d6b9de77
DTSTART:20260704T180000
DTSTAMP:20260410T093706Z
SUMMARY:Live DJ!
DESCRIPTION:
CREATED:20260410T093706Z
URL;VALUE=URI:http://holdmyticket.com/event/461592 

DTEND:20260705T020000
END:VEVENT
BEGIN:VEVENT
SEQUENCE:2
TRANSP:OPAQUE
UID:c97f0ec1b1bb469cd8739d9caca7e9aa
DTSTART:20260709T210000
DTSTAMP:20260406T100330Z
SUMMARY:West Bound Hearts
DESCRIPTION:
CREATED:20260406T100330Z
URL;VALUE=URI:http://holdmyticket.com/event/461585 

DTEND:20260710T020000
END:VEVENT
BEGIN:VEVENT
SEQUENCE:2
TRANSP:OPAQUE
UID:f23dc7411f7195d98beed95d96590a20
DTSTART:20260710T210000
DTSTAMP:20260406T100330Z
SUMMARY:West Bound Hearts
DESCRIPTION:
CREATED:20260406T100330Z
URL;VALUE=URI:http://holdmyticket.com/event/461586 

DTEND:20260711T020000
END:VEVENT
BEGIN:VEVENT
SEQUENCE:2
TRANSP:OPAQUE
UID:b4f073233da080cf6dbe838939b73106
DTSTART:20260711T210000
DTSTAMP:20260406T100330Z
SUMMARY:West Bound Hearts
DESCRIPTION:
CREATED:20260406T100330Z
URL;VALUE=URI:http://holdmyticket.com/event/461587 

DTEND:20260712T020000
END:VEVENT
BEGIN:VEVENT
SEQUENCE:2
TRANSP:OPAQUE
UID:52a5ba105149a4894e6008ef5772ff30
DTSTART:20260716T180000
DTSTAMP:20260309T093157Z
SUMMARY:Rhett Haney
DESCRIPTION:
CREATED:20260309T093157Z
URL;VALUE=URI:http://holdmyticket.com/event/459918 

DTEND:20260717T020000
END:VEVENT
BEGIN:VEVENT
SEQUENCE:2
TRANSP:OPAQUE
UID:bd6dd54829e3b02fb69eb06057d2e50b
DTSTART:20260717T180000
DTSTAMP:20260309T093158Z
SUMMARY:Rhett Haney
DESCRIPTION:
CREATED:20260309T093158Z
URL;VALUE=URI:http://holdmyticket.com/event/459919 

DTEND:20260718T020000
END:VEVENT
BEGIN:VEVENT
SEQUENCE:2
TRANSP:OPAQUE
UID:74ac8b402adc415cbbebf5b98270f138
DTSTART:20260718T180000
DTSTAMP:20260309T093158Z
SUMMARY:Rhett Haney
DESCRIPTION:
CREATED:20260309T093158Z
URL;VALUE=URI:http://holdmyticket.com/event/459920 

DTEND:20260719T020000
END:VEVENT
BEGIN:VEVENT
SEQUENCE:2
TRANSP:OPAQUE
UID:36d6fdf9655d0d8606eb18d52e01b849
DTSTART:20260723T210000
DTSTAMP:20260411T195207Z
SUMMARY:Twisted Trails
DESCRIPTION:
CREATED:20260411T195207Z
URL;VALUE=URI:http://holdmyticket.com/event/461780 

DTEND:20260724T020000
END:VEVENT
BEGIN:VEVENT
SEQUENCE:2
TRANSP:OPAQUE
UID:2e6b1730378e26346429d7b9d4e78ea0
DTSTART:20260724T210000
DTSTAMP:20260411T195208Z
SUMMARY:Twisted Trails
DESCRIPTION:
CREATED:20260411T195208Z
URL;VALUE=URI:http://holdmyticket.com/event/461781 

DTEND:20260725T020000
END:VEVENT
BEGIN:VEVENT
SEQUENCE:2
TRANSP:OPAQUE
UID:9f1142fc909fc81d40514bac239ee642
DTSTART:20260725T210000
DTSTAMP:20260411T195208Z
SUMMARY:Twisted Trails
DESCRIPTION:
CREATED:20260411T195208Z
URL;VALUE=URI:http://holdmyticket.com/event/461782 

DTEND:20260726T020000
END:VEVENT
BEGIN:VEVENT
SEQUENCE:2
TRANSP:OPAQUE
UID:e40093b56e03a5cc37a8c9a07c76e96a
DTSTART:20260730T210000
DTSTAMP:20260304T134235Z
SUMMARY:Reece Gustafson
DESCRIPTION:
CREATED:20260304T134235Z
URL;VALUE=URI:http://holdmyticket.com/event/459446 

DTEND:20260731T020000
END:VEVENT
BEGIN:VEVENT
SEQUENCE:2
TRANSP:OPAQUE
UID:41c1d2010f36e90ef4ee5adb68ede1ca
DTSTART:20260731T210000
DTSTAMP:20260304T134235Z
SUMMARY:Reece Gustafson
DESCRIPTION:
CREATED:20260304T134235Z
URL;VALUE=URI:http://holdmyticket.com/event/459447 

DTEND:20260801T020000
END:VEVENT
BEGIN:VEVENT
SEQUENCE:2
TRANSP:OPAQUE
UID:6d151ca6bc38079ae340def8b500f3dc
DTSTART:20260801T210000
DTSTAMP:20260304T134235Z
SUMMARY:Reece Gustafson
DESCRIPTION:
CREATED:20260304T134235Z
URL;VALUE=URI:http://holdmyticket.com/event/459448 

DTEND:20260802T020000
END:VEVENT
BEGIN:VEVENT
SEQUENCE:2
TRANSP:OPAQUE
UID:6624e85dfa48275d992f6b6f87e44941
DTSTART:20260806T210000
DTSTAMP:20260304T134220Z
SUMMARY:Abe Mac Band 
DESCRIPTION:
CREATED:20260304T134220Z
URL;VALUE=URI:http://holdmyticket.com/event/459449 

DTEND:20260807T020000
END:VEVENT
BEGIN:VEVENT
SEQUENCE:2
TRANSP:OPAQUE
UID:5d1379d95a06040aeb628e2294306c4d
DTSTART:20260807T210000
DTSTAMP:20260304T134220Z
SUMMARY:Abe Mac Band 
DESCRIPTION:
CREATED:20260304T134220Z
URL;VALUE=URI:http://holdmyticket.com/event/459450 

DTEND:20260808T020000
END:VEVENT
BEGIN:VEVENT
SEQUENCE:2
TRANSP:OPAQUE
UID:4e4cf31c5e0b46dea589e724d2159bdc
DTSTART:20260808T210000
DTSTAMP:20260304T134220Z
SUMMARY:Abe Mac Band 
DESCRIPTION:
CREATED:20260304T134220Z
URL;VALUE=URI:http://holdmyticket.com/event/459451 

DTEND:20260809T020000
END:VEVENT
BEGIN:VEVENT
SEQUENCE:2
TRANSP:OPAQUE
UID:65c10ba346fadf1dd67c3f77bfab8157
DTSTART:20260813T210000
DTSTAMP:20260304T134328Z
SUMMARY:Chuck Briseno
DESCRIPTION:
CREATED:20260304T134328Z
URL;VALUE=URI:http://holdmyticket.com/event/459452 

DTEND:20260814T020000
END:VEVENT
BEGIN:VEVENT
SEQUENCE:2
TRANSP:OPAQUE
UID:e026ef15115ce8700424c1f49ac76a93
DTSTART:20260814T210000
DTSTAMP:20260304T134328Z
SUMMARY:Chuck Briseno
DESCRIPTION:
CREATED:20260304T134328Z
URL;VALUE=URI:http://holdmyticket.com/event/459453 

DTEND:20260815T020000
END:VEVENT
BEGIN:VEVENT
SEQUENCE:2
TRANSP:OPAQUE
UID:b3c1a4daa39eb666f8307df1fc70c29f
DTSTART:20260815T210000
DTSTAMP:20260304T134328Z
SUMMARY:Chuck Briseno
DESCRIPTION:
CREATED:20260304T134328Z
URL;VALUE=URI:http://holdmyticket.com/event/459454 

DTEND:20260816T020000
END:VEVENT
BEGIN:VEVENT
SEQUENCE:2
TRANSP:OPAQUE
UID:96542f47967e9accf0d12df3617cd3a7
DTSTART:20260820T210000
DTSTAMP:20260304T134513Z
SUMMARY:Jonny Lackey & The Pocket Aces
DESCRIPTION:
CREATED:20260304T134513Z
URL;VALUE=URI:http://holdmyticket.com/event/459455 

DTEND:20260821T020000
END:VEVENT
BEGIN:VEVENT
SEQUENCE:2
TRANSP:OPAQUE
UID:e0ac9e6230869a513842cdbe18776c48
DTSTART:20260821T210000
DTSTAMP:20260304T134513Z
SUMMARY:Jonny Lackey & The Pocket Aces
DESCRIPTION:
CREATED:20260304T134513Z
URL;VALUE=URI:http://holdmyticket.com/event/459456 

DTEND:20260822T020000
END:VEVENT
BEGIN:VEVENT
SEQUENCE:2
TRANSP:OPAQUE
UID:bb3c26d91ef3c13e3cee4269b38a899c
DTSTART:20260822T210000
DTSTAMP:20260304T134513Z
SUMMARY:Jonny Lackey & The Pocket Aces
DESCRIPTION:
CREATED:20260304T134513Z
URL;VALUE=URI:http://holdmyticket.com/event/459457 

DTEND:20260823T020000
END:VEVENT
BEGIN:VEVENT
SEQUENCE:2
TRANSP:OPAQUE
UID:079b2b7f8531bfbce910620ef4d47c09
DTSTART:20260827T210000
DTSTAMP:20260309T092944Z
SUMMARY:Christian Warren
DESCRIPTION:
CREATED:20260309T092944Z
URL;VALUE=URI:http://holdmyticket.com/event/459921 

DTEND:20260828T020000
END:VEVENT
BEGIN:VEVENT
SEQUENCE:2
TRANSP:OPAQUE
UID:c2b08cbe7a0ecc8c2859d4b0fccfcf16
DTSTART:20260828T210000
DTSTAMP:20260309T092944Z
SUMMARY:Christian Warren
DESCRIPTION:
CREATED:20260309T092944Z
URL;VALUE=URI:http://holdmyticket.com/event/459922 

DTEND:20260829T020000
END:VEVENT
BEGIN:VEVENT
SEQUENCE:2
TRANSP:OPAQUE
UID:03ed27fdd6a76946e653571c293cdcfa
DTSTART:20260829T210000
DTSTAMP:20260309T092944Z
SUMMARY:Christian Warren
DESCRIPTION:
CREATED:20260309T092944Z
URL;VALUE=URI:http://holdmyticket.com/event/459923 

DTEND:20260830T020000
END:VEVENT
BEGIN:VEVENT
SEQUENCE:2
TRANSP:OPAQUE
UID:ad75fbcce982b06b56a8c757c0fea86f
DTSTART:20260903T210000
DTSTAMP:20260406T100532Z
SUMMARY:Zach Jones & The 45's
DESCRIPTION:
CREATED:20260406T100532Z
URL;VALUE=URI:http://holdmyticket.com/event/461588 

DTEND:20260904T020000
END:VEVENT
BEGIN:VEVENT
SEQUENCE:2
TRANSP:OPAQUE
UID:d26c38d574cf9ffc955ceb0d51cd711a
DTSTART:20260904T210000
DTSTAMP:20260406T100532Z
SUMMARY:Zach Jones & The 45's
DESCRIPTION:
CREATED:20260406T100532Z
URL;VALUE=URI:http://holdmyticket.com/event/461589 

DTEND:20260905T020000
END:VEVENT
BEGIN:VEVENT
SEQUENCE:2
TRANSP:OPAQUE
UID:eccee7376f8109b672616090ff1debd1
DTSTART:20260905T210000
DTSTAMP:20260406T100532Z
SUMMARY:Zach Jones & The 45's
DESCRIPTION:
CREATED:20260406T100532Z
URL;VALUE=URI:http://holdmyticket.com/event/461590 

DTEND:20260906T020000
END:VEVENT
BEGIN:VEVENT
SEQUENCE:2
TRANSP:OPAQUE
UID:ecd39008a9cdc1d5ac130c9e89449e9a
DTSTART:20260910T210000
DTSTAMP:20260304T134605Z
SUMMARY:Jeffrey Alan Band
DESCRIPTION:
CREATED:20260304T134605Z
URL;VALUE=URI:http://holdmyticket.com/event/459458 

DTEND:20260911T020000
END:VEVENT
BEGIN:VEVENT
SEQUENCE:2
TRANSP:OPAQUE
UID:45a37d7bea15e7616a7e5f236ba8f386
DTSTART:20260911T210000
DTSTAMP:20260304T134605Z
SUMMARY:Jeffrey Alan Band
DESCRIPTION:
CREATED:20260304T134605Z
URL;VALUE=URI:http://holdmyticket.com/event/459459 

DTEND:20260912T020000
END:VEVENT
BEGIN:VEVENT
SEQUENCE:2
TRANSP:OPAQUE
UID:b6f15bee546c9e6a450d382fbda211d3
DTSTART:20260912T210000
DTSTAMP:20260304T134605Z
SUMMARY:Jeffrey Alan Band
DESCRIPTION:
CREATED:20260304T134605Z
URL;VALUE=URI:http://holdmyticket.com/event/459460 

DTEND:20260913T020000
END:VEVENT
BEGIN:VEVENT
SEQUENCE:2
TRANSP:OPAQUE
UID:fdb2f8024e8188574f57decff17d6113
DTSTART:20260917T210000
DTSTAMP:20260309T093121Z
SUMMARY:Arizona Blacktop
DESCRIPTION:
CREATED:20260309T093121Z
URL;VALUE=URI:http://holdmyticket.com/event/459924 

DTEND:20260918T020000
END:VEVENT
BEGIN:VEVENT
SEQUENCE:2
TRANSP:OPAQUE
UID:ef7771993b8fb12ce895d8f2579cfb8e
DTSTART:20260918T210000
DTSTAMP:20260309T093121Z
SUMMARY:Arizona Blacktop
DESCRIPTION:
CREATED:20260309T093121Z
URL;VALUE=URI:http://holdmyticket.com/event/459925 

DTEND:20260919T020000
END:VEVENT
BEGIN:VEVENT
SEQUENCE:2
TRANSP:OPAQUE
UID:ac5c165e9800d71e28bf634626ae2245
DTSTART:20260919T210000
DTSTAMP:20260309T093122Z
SUMMARY:Arizona Blacktop
DESCRIPTION:
CREATED:20260309T093122Z
URL;VALUE=URI:http://holdmyticket.com/event/459926 

DTEND:20260920T020000
END:VEVENT
BEGIN:VEVENT
SEQUENCE:2
TRANSP:OPAQUE
UID:ae88294806ed042f7b5cee0c3c069529
DTSTART:20260924T210000
DTSTAMP:20260304T134656Z
SUMMARY:Nathan Dean & The Damn Band 
DESCRIPTION:
CREATED:20260304T134656Z
URL;VALUE=URI:http://holdmyticket.com/event/459461 

DTEND:20260925T020000
END:VEVENT
BEGIN:VEVENT
SEQUENCE:2
TRANSP:OPAQUE
UID:649607fae4cf163f747fecf24861f0f3
DTSTART:20260925T210000
DTSTAMP:20260304T134656Z
SUMMARY:Nathan Dean & The Damn Band 
DESCRIPTION:
CREATED:20260304T134656Z
URL;VALUE=URI:http://holdmyticket.com/event/459462 

DTEND:20260926T020000
END:VEVENT
BEGIN:VEVENT
SEQUENCE:2
TRANSP:OPAQUE
UID:4e40748542b0714aff2865bff140d62a
DTSTART:20260926T210000
DTSTAMP:20260304T134656Z
SUMMARY:Nathan Dean & The Damn Band 
DESCRIPTION:
CREATED:20260304T134656Z
URL;VALUE=URI:http://holdmyticket.com/event/459463 

DTEND:20260927T020000
END:VEVENT
BEGIN:VEVENT
SEQUENCE:2
TRANSP:OPAQUE
UID:4f3a87d239da9aaa982d6b51af6c07ea
DTSTART:20261001T210000
DTSTAMP:20260410T104301Z
SUMMARY:Austin Van
DESCRIPTION:
CREATED:20260410T104301Z
URL;VALUE=URI:http://holdmyticket.com/event/461730 

DTEND:20261002T020000
END:VEVENT
BEGIN:VEVENT
SEQUENCE:2
TRANSP:OPAQUE
UID:d477695ce4b82c0a24afd4326818d729
DTSTART:20261002T210000
DTSTAMP:20260410T121022Z
SUMMARY:Nathaniel Krantz
DESCRIPTION:
CREATED:20260410T121022Z
URL;VALUE=URI:http://holdmyticket.com/event/461738 

DTEND:20261003T020000
END:VEVENT
BEGIN:VEVENT
SEQUENCE:2
TRANSP:OPAQUE
UID:6448dc98d3ded958fa67515757e09c47
DTSTART:20261003T210000
DTSTAMP:20260410T121022Z
SUMMARY:Nathaniel Krantz
DESCRIPTION:
CREATED:20260410T121022Z
URL;VALUE=URI:http://holdmyticket.com/event/461739 

DTEND:20261004T020000
END:VEVENT
BEGIN:VEVENT
SEQUENCE:2
TRANSP:OPAQUE
UID:144ee4a4b5a457e4e6714a61881040cb
DTSTART:20261009T210000
DTSTAMP:20260410T104417Z
SUMMARY:Loaded
DESCRIPTION:
CREATED:20260410T104417Z
URL;VALUE=URI:http://holdmyticket.com/event/461731 

DTEND:20261010T020000
END:VEVENT
BEGIN:VEVENT
SEQUENCE:2
TRANSP:OPAQUE
UID:1bf8b4b34fe63e78fff923baca3bae90
DTSTART:20261010T210000
DTSTAMP:20260410T104417Z
SUMMARY:Loaded
DESCRIPTION:
CREATED:20260410T104417Z
URL;VALUE=URI:http://holdmyticket.com/event/461732 

DTEND:20261011T020000
END:VEVENT
BEGIN:VEVENT
SEQUENCE:2
TRANSP:OPAQUE
UID:14cd24a6890e3c442416f0dc099f6b62
DTSTART:20261015T210000
DTSTAMP:20260320T132559Z
SUMMARY:Brandon Saiz Band
DESCRIPTION:
CREATED:20260320T132559Z
URL;VALUE=URI:http://holdmyticket.com/event/460858 

DTEND:20261016T020000
END:VEVENT
BEGIN:VEVENT
SEQUENCE:2
TRANSP:OPAQUE
UID:a42b9902ab8644a92a7a9e37db95945d
DTSTART:20261016T210000
DTSTAMP:20260320T132559Z
SUMMARY:Brandon Saiz Band
DESCRIPTION:
CREATED:20260320T132559Z
URL;VALUE=URI:http://holdmyticket.com/event/460859 

DTEND:20261017T020000
END:VEVENT
BEGIN:VEVENT
SEQUENCE:2
TRANSP:OPAQUE
UID:be0958de48658fb4008dbbf42d52819d
DTSTART:20261017T210000
DTSTAMP:20260320T132559Z
SUMMARY:Brandon Saiz Band
DESCRIPTION:
CREATED:20260320T132559Z
URL;VALUE=URI:http://holdmyticket.com/event/460860 

DTEND:20261018T020000
END:VEVENT
BEGIN:VEVENT
SEQUENCE:2
TRANSP:OPAQUE
UID:265459cf2441135142a5f7441e3131dc
DTSTART:20261022T210000
DTSTAMP:20260320T132718Z
SUMMARY:Triple Nickel
DESCRIPTION:
CREATED:20260320T132718Z
URL;VALUE=URI:http://holdmyticket.com/event/460861 

DTEND:20261023T020000
END:VEVENT
BEGIN:VEVENT
SEQUENCE:2
TRANSP:OPAQUE
UID:644c528c055591808cbea597580845d1
DTSTART:20261023T210000
DTSTAMP:20260320T132718Z
SUMMARY:Triple Nickel
DESCRIPTION:
CREATED:20260320T132718Z
URL;VALUE=URI:http://holdmyticket.com/event/460862 

DTEND:20261024T020000
END:VEVENT
BEGIN:VEVENT
SEQUENCE:2
TRANSP:OPAQUE
UID:989c987bd88bba4564c5f9460f8a2cb2
DTSTART:20261024T210000
DTSTAMP:20260320T132718Z
SUMMARY:Triple Nickel
DESCRIPTION:
CREATED:20260320T132718Z
URL;VALUE=URI:http://holdmyticket.com/event/460863 

DTEND:20261025T020000
END:VEVENT
BEGIN:VEVENT
SEQUENCE:2
TRANSP:OPAQUE
UID:3b6131ed396b2ba36b2cef7438deb05b
DTSTART:20261029T210000
DTSTAMP:20260304T135028Z
SUMMARY:Rhett Haney
DESCRIPTION:
CREATED:20260304T135028Z
URL;VALUE=URI:http://holdmyticket.com/event/459470 

DTEND:20261030T020000
END:VEVENT
BEGIN:VEVENT
SEQUENCE:2
TRANSP:OPAQUE
UID:66d34983114d738ece4e099c3bba5cce
DTSTART:20261030T210000
DTSTAMP:20260304T135028Z
SUMMARY:Rhett Haney
DESCRIPTION:
CREATED:20260304T135028Z
URL;VALUE=URI:http://holdmyticket.com/event/459471 

DTEND:20261031T020000
END:VEVENT
BEGIN:VEVENT
SEQUENCE:2
TRANSP:OPAQUE
UID:6a2b0279fde9553baf3524e37fb4c299
DTSTART:20261031T210000
DTSTAMP:20260304T135028Z
SUMMARY:Rhett Haney
DESCRIPTION:
CREATED:20260304T135028Z
URL;VALUE=URI:http://holdmyticket.com/event/459472 

DTEND:20261101T010000
END:VEVENT
BEGIN:VEVENT
SEQUENCE:2
TRANSP:OPAQUE
UID:918c21094709c3a08a1ccd12af2ff53f
DTSTART:20261105T210000
DTSTAMP:20260304T134748Z
SUMMARY:Nathan Dean & The Damn Band 
DESCRIPTION:
CREATED:20260304T134748Z
URL;VALUE=URI:http://holdmyticket.com/event/459464 

DTEND:20261106T020000
END:VEVENT
BEGIN:VEVENT
SEQUENCE:2
TRANSP:OPAQUE
UID:ad1768bb87e04250adb98c408e48fb93
DTSTART:20261106T210000
DTSTAMP:20260304T134748Z
SUMMARY:Nathan Dean & The Damn Band 
DESCRIPTION:
CREATED:20260304T134748Z
URL;VALUE=URI:http://holdmyticket.com/event/459465 

DTEND:20261107T020000
END:VEVENT
BEGIN:VEVENT
SEQUENCE:2
TRANSP:OPAQUE
UID:5fe53aa6d48f28cd3b0e17a17ff99cf7
DTSTART:20261107T210000
DTSTAMP:20260304T134748Z
SUMMARY:Nathan Dean & The Damn Band 
DESCRIPTION:
CREATED:20260304T134748Z
URL;VALUE=URI:http://holdmyticket.com/event/459466 

DTEND:20261108T020000
END:VEVENT
BEGIN:VEVENT
SEQUENCE:2
TRANSP:OPAQUE
UID:644687f5c0e4144ad9b3c9c63f5a2bb7
DTSTART:20261119T210000
DTSTAMP:20260304T134833Z
SUMMARY:Jeffrey Alan Band
DESCRIPTION:
CREATED:20260304T134833Z
URL;VALUE=URI:http://holdmyticket.com/event/459467 

DTEND:20261120T020000
END:VEVENT
BEGIN:VEVENT
SEQUENCE:2
TRANSP:OPAQUE
UID:028ef42a263399a0785037627a35577c
DTSTART:20261120T210000
DTSTAMP:20260304T134833Z
SUMMARY:Jeffrey Alan Band
DESCRIPTION:
CREATED:20260304T134833Z
URL;VALUE=URI:http://holdmyticket.com/event/459468 

DTEND:20261121T020000
END:VEVENT
BEGIN:VEVENT
SEQUENCE:2
TRANSP:OPAQUE
UID:45f8675f28fd326bda9ce1c655c25802
DTSTART:20261121T210000
DTSTAMP:20260304T134833Z
SUMMARY:Jeffrey Alan Band
DESCRIPTION:
CREATED:20260304T134833Z
URL;VALUE=URI:http://holdmyticket.com/event/459469 

DTEND:20261122T020000
END:VEVENT
BEGIN:VEVENT
SEQUENCE:2
TRANSP:OPAQUE
UID:e095310b7d10837499f714f24c64c64c
DTSTART:20261126T180000
DTSTAMP:20260304T135133Z
SUMMARY:Closed Thanksgiving Day
DESCRIPTION:
CREATED:20260304T135133Z
URL;VALUE=URI:http://holdmyticket.com/event/459473 

DTEND:20261127T020000
END:VEVENT
BEGIN:VEVENT
SEQUENCE:2
TRANSP:OPAQUE
UID:1d03b0f55c1742a64cd0921f1985cf86
DTSTART:20261203T210000
DTSTAMP:20260313T150924Z
SUMMARY:Trey Gonzalez
DESCRIPTION:
CREATED:20260313T150924Z
URL;VALUE=URI:http://holdmyticket.com/event/460639 

DTEND:20261204T020000
END:VEVENT
BEGIN:VEVENT
SEQUENCE:2
TRANSP:OPAQUE
UID:689cd6b4ab8a6c95a094f8e4b01edbca
DTSTART:20261204T210000
DTSTAMP:20260313T150924Z
SUMMARY:Trey Gonzalez
DESCRIPTION:
CREATED:20260313T150924Z
URL;VALUE=URI:http://holdmyticket.com/event/460640 

DTEND:20261205T020000
END:VEVENT
BEGIN:VEVENT
SEQUENCE:2
TRANSP:OPAQUE
UID:1eb017243a5877b3cb5fe7efd4ebffbc
DTSTART:20261205T210000
DTSTAMP:20260313T150924Z
SUMMARY:Trey Gonzalez
DESCRIPTION:
CREATED:20260313T150924Z
URL;VALUE=URI:http://holdmyticket.com/event/460641 

DTEND:20261206T020000
END:VEVENT
BEGIN:VEVENT
SEQUENCE:2
TRANSP:OPAQUE
UID:03c20b31011929789b743170643ed802
DTSTART:20261224T180000
DTSTAMP:20260304T135335Z
SUMMARY:Closed Christmas Eve
DESCRIPTION:
CREATED:20260304T135335Z
URL;VALUE=URI:http://holdmyticket.com/event/459474 

DTEND:20261225T020000
END:VEVENT
BEGIN:VEVENT
SEQUENCE:2
TRANSP:OPAQUE
UID:e78f0521ac310409f9eb8139636290f8
DTSTART:20261225T180000
DTSTAMP:20260304T135420Z
SUMMARY:Closed Christmas Day
DESCRIPTION:
CREATED:20260304T135420Z
URL;VALUE=URI:http://holdmyticket.com/event/459475 

DTEND:20261226T020000
END:VEVENT
BEGIN:VEVENT
SEQUENCE:2
TRANSP:OPAQUE
UID:11b8934a72d2e6a867e40d3124adde62
DTSTART:20261231T210000
DTSTAMP:20260320T132816Z
SUMMARY:Brandon Saiz Band
DESCRIPTION:
CREATED:20260320T132816Z
URL;VALUE=URI:http://holdmyticket.com/event/460866 

DTEND:20270101T020000
END:VEVENT
BEGIN:VEVENT
SEQUENCE:2
TRANSP:OPAQUE
UID:948e7983bbfb0b2fab2cfd040d23c00e
DTSTART:20270101T210000
DTSTAMP:20260320T132816Z
SUMMARY:Brandon Saiz Band
DESCRIPTION:
CREATED:20260320T132816Z
URL;VALUE=URI:http://holdmyticket.com/event/460867 

DTEND:20270102T020000
END:VEVENT
BEGIN:VEVENT
SEQUENCE:2
TRANSP:OPAQUE
UID:f5f90319863b74262db254ff0ff5c5ad
DTSTART:20270102T210000
DTSTAMP:20260320T132816Z
SUMMARY:Brandon Saiz Band
DESCRIPTION:
CREATED:20260320T132816Z
URL;VALUE=URI:http://holdmyticket.com/event/460868 

DTEND:20270103T020000
END:VEVENT
END:VCALENDAR