BEGIN:VCALENDAR
METHOD:PUBLISH
X-WR-TIMEZONE:America/Chicago
PRODID:-//Hold My Ticket.//HMT Web App//EN
CALSCALE:GREGORIAN
METHOD:PUBLISH
X-WR-CALNAME:Luckenbach Texas
X-WR-CALDESC:Upcoming events at Luckenbach Texas
BEGIN:VTIMEZONE
TZID:America/Chicago 
END:VTIMEZONE
BEGIN:VEVENT
SEQUENCE:2
TRANSP:OPAQUE
UID:0ee8a51957ef7acfce8a78855ec941e3
DTSTART:20181019T110000
DTSTAMP:20181019T060151Z
SUMMARY:Harvest Classic 
DESCRIPTION:
CREATED:20181019T060151Z
URL;VALUE=URI:http://holdmyticket.com/event/287527 

DTEND:20181019T220000
END:VEVENT
END:VCALENDAR