BEGIN:VCALENDAR
METHOD:PUBLISH
X-WR-TIMEZONE:America/Denver
PRODID:-//Hold My Ticket.//HMT Web App//EN
CALSCALE:GREGORIAN
METHOD:PUBLISH
X-WR-CALNAME:Sunshine Theater
X-WR-CALDESC:Upcoming events at Sunshine Theater
BEGIN:VTIMEZONE
TZID:America/Denver 
END:VTIMEZONE
BEGIN:VEVENT
SEQUENCE:2
TRANSP:OPAQUE
UID:787c3965d95045214a42d87987d662f1
DTSTART:20180624T200000
DTSTAMP:20180624T223645Z
SUMMARY:The Front Bottoms * Kevin Devine
DESCRIPTION:
CREATED:20180624T223645Z
URL;VALUE=URI:http://holdmyticket.com/event/300078 

DTEND:20180624T230000
END:VEVENT
END:VCALENDAR