BEGIN:VCALENDAR
METHOD:PUBLISH
X-WR-TIMEZONE:America/Denver
PRODID:-//Hold My Ticket.//HMT Web App//EN
CALSCALE:GREGORIAN
METHOD:PUBLISH
X-WR-CALNAME:Sister
X-WR-CALDESC:Upcoming events at Sister
BEGIN:VTIMEZONE
TZID:America/Denver 
END:VTIMEZONE
BEGIN:VEVENT
SEQUENCE:2
TRANSP:OPAQUE
UID:b1d749f738a3b036503c4b25a740d3e7
DTSTART:20180609T210000
DTSTAMP:20180609T214026Z
SUMMARY:Ufomammut with White Hills 
DESCRIPTION:
CREATED:20180609T214026Z
URL;VALUE=URI:http://holdmyticket.com/event/300516 

DTEND:20180610T013000
END:VEVENT
END:VCALENDAR