BEGIN:VCALENDAR
METHOD:PUBLISH
X-WR-TIMEZONE:America/Denver
PRODID:-//Hold My Ticket.//HMT Web App//EN
CALSCALE:GREGORIAN
METHOD:PUBLISH
X-WR-CALNAME:Taos Mesa Brewing Mothership
X-WR-CALDESC:Upcoming events at Taos Mesa Brewing Mothership
BEGIN:VTIMEZONE
TZID:America/Denver 
END:VTIMEZONE
BEGIN:VEVENT
SEQUENCE:2
TRANSP:OPAQUE
UID:20b320a8ba2f40491e4c166da1ad4e4d
DTSTART:20180421T190000
DTSTAMP:20180421T140141Z
SUMMARY:Roots &amp; Wires Presents...Vieux Farka Touré
DESCRIPTION:
CREATED:20180421T140141Z
URL;VALUE=URI:http://holdmyticket.com/event/300917 

DTEND:20180421T220000
END:VEVENT
END:VCALENDAR