BEGIN:VCALENDAR
METHOD:PUBLISH
X-WR-TIMEZONE:America/Chicago
PRODID:-//Hold My Ticket.//HMT Web App//EN
CALSCALE:GREGORIAN
METHOD:PUBLISH
X-WR-CALNAME:ONE-2-ONE BAR
X-WR-CALDESC:Upcoming events at ONE-2-ONE BAR
BEGIN:VTIMEZONE
TZID:America/Chicago 
END:VTIMEZONE
BEGIN:VEVENT
SEQUENCE:2
TRANSP:OPAQUE
UID:eeffa8a7b0946d203700fe476f821319
DTSTART:20180424T200000
DTSTAMP:20180424T150153Z
SUMMARY:Sly Curtis-A Tribute to Sly &amp; the Family Stone &amp; Curtis Mayfield
DESCRIPTION:Sly Curtis is a Mix of Sly and the Family Stone Mashed with Curtis Mayfield and Sprinkled with ALL that is Funky!
Hector Ward: Vocals, Guitar
Pearl Turner: Vocals
JT Holt: Guitar
Andy Rumelt: Keys
Bruce Hughes: Bass, Vocals
Alex Marrero: Drums
Hayden Vitera: Violin
Tiger Anaya: Trumpet, Section Lead
Stephen Farmer: Trumpet
Oscar Ornelas: Tenor Sax
Wayne Myers: Trombone
Mark Wilson: Bari Sax, Flute
Dave Farris: Congas
https://www.facebook.com/slycurtisband/
CREATED:20180424T150153Z
URL;VALUE=URI:http://holdmyticket.com/event/302127 

DTEND:20180424T220000
END:VEVENT
END:VCALENDAR