BEGIN:VCALENDAR
METHOD:PUBLISH
X-WR-TIMEZONE:America/Chicago
PRODID:-//Hold My Ticket.//HMT Web App//EN
CALSCALE:GREGORIAN
METHOD:PUBLISH
X-WR-CALNAME:ONE-2-ONE BAR
X-WR-CALDESC:Upcoming events at ONE-2-ONE BAR
BEGIN:VTIMEZONE
TZID:America/Chicago 
END:VTIMEZONE
BEGIN:VEVENT
SEQUENCE:2
TRANSP:OPAQUE
UID:77f1d9ba2622d1a6c16e100f11a55e16
DTSTART:20181228T210000
DTSTAMP:20181228T170149Z
SUMMARY:Extreme Heat-Austin Purveyors Of Funky Soul Music
DESCRIPTION:It is rare when a band performs together for a decade much less two decades.....But Austin's EXTREME HEAT has a performance life that spans five decades. Formed in 1977 from the critically acclaimed band Steam Heat, EXTREME HEAT cut it's musical teeth playing legendary Austin venues like the Armadillo, Liberty Lunch, Steamboat, Antones, and the Saxon Pub.

During the 1980's and 1990's  EXTREME HEAT's eclectic, funky, jazz and rock influenced sound was heard throughout Texas as a constant presence in the clubs and music festivals of Houston, Dallas-Ft. Worth, San Antonio, Corpus Christi, Lubbock, Amarillo, and Tyler. It was also during this period that the band released four albums and were the winners of readers polls and the subject of reviews and articles in music publications across the state.

In the 35 years they have been together, EXTREME HEAT has traveled and performed extensively throughout the U.S.A. They were especially well known to audiences in Colorado, New Mexico, Oklahoma, Louisiana, and Arkansas where they came to represent the Texas and Austin music scene to a generation of listeners in those states.

 With the release of a new CD in 2016 "Year Before The War," 2013 Soulstice, and 2 CD's in 2012,  Live at the Saxon Pub and Put Some Weight on It ! , EXTREME HEAT continues to entertain audiences with their funky 'old school' sound 35 years after their inception.

http://www.extremeheataustin.com
CREATED:20181228T170149Z
URL;VALUE=URI:http://holdmyticket.com/event/303178 

DTEND:20181228T223000
END:VEVENT
END:VCALENDAR