BEGIN:VCALENDAR
METHOD:PUBLISH
X-WR-TIMEZONE:America/Denver
PRODID:-//Hold My Ticket.//HMT Web App//EN
CALSCALE:GREGORIAN
METHOD:PUBLISH
X-WR-CALNAME:Sunshine Acres
X-WR-CALDESC:Upcoming events at Sunshine Acres
BEGIN:VTIMEZONE
TZID:America/Denver 
END:VTIMEZONE
BEGIN:VEVENT
SEQUENCE:2
TRANSP:OPAQUE
UID:0a8667f59b70122d04d008e8f5f82b38
DTSTART:20180908T150000
DTSTAMP:20180908T100147Z
SUMMARY:The 17TH ANNUAL SOUL REBEL FESTIVAL 
DESCRIPTION:The Soul Rebel Festival is a annual grass roots Reggae, Afro Pop, World, American Roots music festival held in beautiful Boulder, County, Colorado. The festival's mission is to provide cultural harmony, understanding and awareness through the positive medium of music and the arts.

The Festival is the manifestation of the creative visionary ideals of Ujama News, an innovative and culturally strong magazine that informs, entertains and educates. Presenting thought provoking, comprehensive information based on the unique Afro Centric heritage,revealed through the arts, dance, literary works, music, natural living and sports.

The festival is held annually benefiting MESA (Moving to End Sexual Assault), 
It is in honor Fazal Prendergast-legendary Reggae studio musician and founder of The Yellow Wall Dub Squad, who passed in a fatal car accident on April 1, 2005. And a tribute to "Chelem" Louis Roxburgh, Legendary Jamaican musician and Yellow Wall Dub Squad Bass player who passed on January 25, 2011.


VENDORS, EMAIL SOULREBELFESTIVAL@GMAIL.COM
CREATED:20180908T100147Z
URL;VALUE=URI:http://holdmyticket.com/event/304088 

DTEND:20180908T230000
END:VEVENT
END:VCALENDAR