BEGIN:VCALENDAR
METHOD:PUBLISH
X-WR-TIMEZONE:America/Denver
PRODID:-//Hold My Ticket.//HMT Web App//EN
CALSCALE:GREGORIAN
METHOD:PUBLISH
X-WR-CALNAME:Launchpad
X-WR-CALDESC:Upcoming events at Launchpad
BEGIN:VTIMEZONE
TZID:America/Denver 
END:VTIMEZONE
BEGIN:VEVENT
SEQUENCE:2
TRANSP:OPAQUE
UID:ff68a5664afa2e80cd039f6da443b02f
DTSTART:20181016T200000
DTSTAMP:20181016T230956Z
SUMMARY:Wavves * HUNNY * Hot Flash Heat Wave * Fad Vandals
DESCRIPTION:
CREATED:20181016T230956Z
URL;VALUE=URI:http://holdmyticket.com/event/306551 

DTEND:20181016T230000
END:VEVENT
END:VCALENDAR