BEGIN:VCALENDAR
METHOD:PUBLISH
X-WR-TIMEZONE:America/Denver
PRODID:-//Hold My Ticket.//HMT Web App//EN
CALSCALE:GREGORIAN
METHOD:PUBLISH
X-WR-CALNAME:The Oriental Theater
X-WR-CALDESC:Upcoming events at The Oriental Theater
BEGIN:VTIMEZONE
TZID:America/Denver 
END:VTIMEZONE
BEGIN:VEVENT
SEQUENCE:2
TRANSP:OPAQUE
UID:ce31bba82554889e501f6f604e945abd
DTSTART:20180420T200000
DTSTAMP:20180420T150151Z
SUMMARY:Mile High Burlesque Festival
DESCRIPTION:
CREATED:20180420T150151Z
URL;VALUE=URI:http://holdmyticket.com/event/307536 

DTEND:20180420T234500
END:VEVENT
END:VCALENDAR