BEGIN:VCALENDAR
METHOD:PUBLISH
X-WR-TIMEZONE:America/Denver
PRODID:-//Hold My Ticket.//HMT Web App//EN
CALSCALE:GREGORIAN
METHOD:PUBLISH
X-WR-CALNAME:Launchpad
X-WR-CALDESC:Upcoming events at Launchpad
BEGIN:VTIMEZONE
TZID:America/Denver 
END:VTIMEZONE
BEGIN:VEVENT
SEQUENCE:2
TRANSP:OPAQUE
UID:8ac1118d4be82f3e78a58a296504ec7f
DTSTART:20181018T210000
DTSTAMP:20181018T160151Z
SUMMARY:Reverend Peyton's Big Damn Band * Moonshine Blind
DESCRIPTION:
CREATED:20181018T160151Z
URL;VALUE=URI:http://holdmyticket.com/event/307567 

DTEND:20181019T000000
END:VEVENT
END:VCALENDAR