BEGIN:VCALENDAR
METHOD:PUBLISH
X-WR-TIMEZONE:America/Los_Angeles
PRODID:-//Hold My Ticket.//HMT Web App//EN
CALSCALE:GREGORIAN
METHOD:PUBLISH
X-WR-CALNAME:V Theater at Planet Hollywood's Miracle Mile Shops 
X-WR-CALDESC:Upcoming events at V Theater at Planet Hollywood's Miracle Mile Shops 
BEGIN:VTIMEZONE
TZID:America/Los_Angeles 
END:VTIMEZONE
BEGIN:VEVENT
SEQUENCE:2
TRANSP:OPAQUE
UID:5e2230888ec5db44799f95bfdb28eee2
DTSTART:20180521T163000
DTSTAMP:20180521T120111Z
SUMMARY:Stripper 101
DESCRIPTION:
CREATED:20180521T120111Z
URL;VALUE=URI:http://holdmyticket.com/event/309477 

DTEND:20180813T164500
END:VEVENT
END:VCALENDAR