BEGIN:VCALENDAR
METHOD:PUBLISH
X-WR-TIMEZONE:America/Chicago
PRODID:-//Hold My Ticket.//HMT Web App//EN
CALSCALE:GREGORIAN
METHOD:PUBLISH
X-WR-CALNAME:Siberia Nola
X-WR-CALDESC:Upcoming events at Siberia Nola
BEGIN:VTIMEZONE
TZID:America/Chicago 
END:VTIMEZONE
BEGIN:VEVENT
SEQUENCE:2
TRANSP:OPAQUE
UID:25338c65b7aa3490e3f87de120babf45
DTSTART:20180417T210000
DTSTAMP:20180417T160157Z
SUMMARY:Tyler Westcott, Sierra Ferrell, Dave Hammer, Matt Rivers, and Mama T and da Tots 
DESCRIPTION:https://sierraferrell.bandcamp.com/track/little-bird
https://davehammermusic.com/
https://mattrivers.bandcamp.com/
https://en.wikipedia.org/wiki/Jett_Prescott

CREATED:20180417T160157Z
URL;VALUE=URI:http://holdmyticket.com/event/310469 

DTEND:20180418T020000
END:VEVENT
END:VCALENDAR