BEGIN:VCALENDAR
METHOD:PUBLISH
X-WR-TIMEZONE:America/Denver
PRODID:-//Hold My Ticket.//HMT Web App//EN
CALSCALE:GREGORIAN
METHOD:PUBLISH
X-WR-CALNAME:211 Main Street, Las Cruces, NM
X-WR-CALDESC:Upcoming events at 211 Main Street, Las Cruces, NM
BEGIN:VTIMEZONE
TZID:America/Denver 
END:VTIMEZONE
BEGIN:VEVENT
SEQUENCE:2
TRANSP:OPAQUE
UID:d67ebfa018a8e69e0ec67b952189a400
DTSTART:20180511T170000
DTSTAMP:20180708T234833Z
SUMMARY:Blazin' Brewfest - 2018
DESCRIPTION:Blazin' Brewfest #6 takes place on Friday, May 11, 5-9pm on the Main Street Plaza in downtown Las Cruces. Breweries from all corners of New Mexico will join us to pour samples of their house favorites, seasonals, and experimental beers. Admission includes sampling throughout the event and a commemorative pint glass. Beer will also be available for purchase by the pint.
CREATED:20180708T234833Z
URL;VALUE=URI:http://holdmyticket.com/event/310490 

DTEND:20180511T210000
END:VEVENT
END:VCALENDAR