BEGIN:VCALENDAR
METHOD:PUBLISH
X-WR-TIMEZONE:America/Chicago
PRODID:-//Hold My Ticket.//HMT Web App//EN
CALSCALE:GREGORIAN
METHOD:PUBLISH
X-WR-CALNAME:Threadgill's World Headquarters
X-WR-CALDESC:Upcoming events at Threadgill's World Headquarters
BEGIN:VTIMEZONE
TZID:America/Chicago 
END:VTIMEZONE
BEGIN:VEVENT
SEQUENCE:2
TRANSP:OPAQUE
UID:0f897ebdb5bcd9dbc884789977e30018
DTSTART:20180420T200000
DTSTAMP:20180420T150153Z
SUMMARY:HeartByrne
DESCRIPTION:
CREATED:20180420T150153Z
URL;VALUE=URI:http://holdmyticket.com/event/310942 

DTEND:20180420T223000
END:VEVENT
END:VCALENDAR