BEGIN:VCALENDAR
METHOD:PUBLISH
X-WR-TIMEZONE:America/Chicago
PRODID:-//Hold My Ticket.//HMT Web App//EN
CALSCALE:GREGORIAN
METHOD:PUBLISH
X-WR-CALNAME:Threadgill's World Headquarters
X-WR-CALDESC:Upcoming events at Threadgill's World Headquarters
BEGIN:VTIMEZONE
TZID:America/Chicago 
END:VTIMEZONE
BEGIN:VEVENT
SEQUENCE:2
TRANSP:OPAQUE
UID:29312868ed4ca0490c0b99d6c56903d0
DTSTART:20180513T110000
DTSTAMP:20180513T060153Z
SUMMARY:Gospel Brunch: The Seekers Bluegrass Gospel
DESCRIPTION:Join us for Sunday brunch at Threadgill's every weekend with live music and a delicious breakfast buffet! 

Music on Sunday from 11am - 1pm • $12.95 Adults &amp; $5.95 Children

All you can eat buffet of all your favorites, including:

Made to order Omelette Station, Migas &amp; Salsa, Hash Browns, Garlic Cheese Grits, Refried Beans, Tortillas, Bacon, Sausage, Biscuits &amp; Gravy, Buttermilk Pancakes, Sweet Potato Pancakes, French Toast and Fresh Fruit.
CREATED:20180513T060153Z
URL;VALUE=URI:http://holdmyticket.com/event/312459 

DTEND:20180513T130000
END:VEVENT
END:VCALENDAR