BEGIN:VCALENDAR
METHOD:PUBLISH
X-WR-TIMEZONE:America/Los_Angeles
PRODID:-//Hold My Ticket.//HMT Web App//EN
CALSCALE:GREGORIAN
METHOD:PUBLISH
X-WR-CALNAME:Downbeat Lounge
X-WR-CALDESC:Upcoming events at Downbeat Lounge
BEGIN:VTIMEZONE
TZID:America/Los_Angeles 
END:VTIMEZONE
BEGIN:VEVENT
SEQUENCE:2
TRANSP:OPAQUE
UID:66b9621d74544345d9bf55c597546fe6
DTSTART:20180503T210000
DTSTAMP:20180503T160121Z
SUMMARY:7 Pairs of Iron Shoes at Downbeat
DESCRIPTION:Join howlin' rockers 7 Pairs of Iron Shoes as they take the stage in Downbeat Lounge 

May 3
9pm
21+
No cover

Downbeat Lounge
42 N. Hotel Street
Honolulu, HI 96817

7 Pairs of Iron Shoes is a howling folk rock/alt country band from Honolulu, Hawaii. They have been a part of the burgeoning D.I.Y and Americana/roots music scene there since 2012. Despite their personal inclinations and influences 7 Pairs remains more than the sum of its parts. The ending result pays homage to what most would call classic, and what some might consider time proven.
https://www.facebook.com/7PairsOfIronShoes/
Music
CREATED:20180503T160121Z
URL;VALUE=URI:http://holdmyticket.com/event/313210 

DTEND:20180504T010000
END:VEVENT
END:VCALENDAR