BEGIN:VCALENDAR
METHOD:PUBLISH
X-WR-TIMEZONE:America/Los_Angeles
PRODID:-//Hold My Ticket.//HMT Web App//EN
CALSCALE:GREGORIAN
METHOD:PUBLISH
X-WR-CALNAME:Downbeat Lounge
X-WR-CALDESC:Upcoming events at Downbeat Lounge
BEGIN:VTIMEZONE
TZID:America/Los_Angeles 
END:VTIMEZONE
BEGIN:VEVENT
SEQUENCE:2
TRANSP:OPAQUE
UID:d49826fd1780fec7a93e8e2d99339f09
DTSTART:20180520T180000
DTSTAMP:20180520T130126Z
SUMMARY:Night Service Hawaii at Downbeat Lounge
DESCRIPTION:Every first and third Sunday at Downbeat Lounge, Only MyTruest Productions and Sandy Scoops Media present NIGHT SERVICE -live hip hop and beats.

If you would like to be booked as a performing artist, photographer, videographer or sponsor, please contact nightservicehawaii@gmail.com.

May 6
6-10pm 
18+
No Cover

Downbeat Lounge
42 N Hotel Street
Honolulu, HI 96817


Night Service Hawaii is a bi-weekly artist showcase promoted, hosted and booked by Jerome OMT and Quality of #OnlyMyTruest Productions and Sandy Scoops Media. Started in February 2017, Night Service is moving closer to a year of collaborating with local venues and up and coming performing artist from across the state of Hawaii. Our goal is simple- GROWTH! We provide a platform for artist, encourage collaboration, inspire authenticity and bring unmatched energy every show.
https://www.facebook.com/onlymytruest/
https://www.facebook.com/sandyscoopsradio/
https://www.facebook.com/jerome.omt/

Each show is documented by video, photography and audio recording to ensure our artists sets and our history is saved and able to be promoted through all social media sites. We plan to grow more each show and do as much as we can for Hawaii's local talent. In order to do so, we could use you! Like our posts, share our story, and most importantly, come out to a show on the first or third Sunday of each month! 

If you would like to be booked as a performing artist, photographer, videographer or sponsor, please contact nightservicehawaii@gmail.com.
CREATED:20180520T130126Z
URL;VALUE=URI:http://holdmyticket.com/event/313299 

DTEND:20180520T220000
END:VEVENT
END:VCALENDAR