BEGIN:VCALENDAR
METHOD:PUBLISH
X-WR-TIMEZONE:America/Denver
PRODID:-//Hold My Ticket.//HMT Web App//EN
CALSCALE:GREGORIAN
METHOD:PUBLISH
X-WR-CALNAME:Railyard Plaza
X-WR-CALDESC:Upcoming events at Railyard Plaza
BEGIN:VTIMEZONE
TZID:America/Denver 
END:VTIMEZONE
BEGIN:VEVENT
SEQUENCE:2
TRANSP:OPAQUE
UID:9548d2c2a2e4de785272316077ef2d32
DTSTART:20180818T190000
DTSTAMP:20180818T140135Z
SUMMARY:Innastate - FREE SHOW
DESCRIPTION:Innastate is a contemporary reggae band from the high-desert of New Mexico. Based out of Santa Fe, the band has been together since the spring of 2014. Innastate has gained momentous acclaim in their brief existence. The band’s musical influences span many genres, creating a brand of reggae and rock that is modern yet honors their Indigenous heritage, musical roots and love of music. The music that Innastate creates reflects on the human experience, other themes concerning spirituality and environmental issues are often found within their songs. Innastate believes in the power of music to connect people.
CREATED:20180818T140135Z
URL;VALUE=URI:http://holdmyticket.com/event/313677 

DTEND:20180818T220000
END:VEVENT
END:VCALENDAR