BEGIN:VCALENDAR
METHOD:PUBLISH
X-WR-TIMEZONE:America/Los_Angeles
PRODID:-//Hold My Ticket.//HMT Web App//EN
CALSCALE:GREGORIAN
METHOD:PUBLISH
X-WR-CALNAME:Humboldt Brews
X-WR-CALDESC:Upcoming events at Humboldt Brews
BEGIN:VTIMEZONE
TZID:America/Los_Angeles 
END:VTIMEZONE
BEGIN:VEVENT
SEQUENCE:2
TRANSP:OPAQUE
UID:8b5e8a851aac4d3c549e9715ba87e69d
DTSTART:20180807T210000
DTSTAMP:20180807T160127Z
SUMMARY:River Whyless
DESCRIPTION:River Whyless, the Asheville, NC quartet, is named in spirit of the band’s ongoing love affair with the natural world. Since forming the band in 2009, musicians Ryan O'Keefe, Halli Anderson, Alex McWalters and Daniel Shearin have toured extensively, playing hundreds of shows from coast to coast and into Canada.

“Think Paul Simon; think imaginative arrangements with accents of music from around the world,” writes NPR’s Bob Boilen in his review of their latest album We All The Light. “Four ego-less musicians blend their talents on violin, guitars, drums, harmonium, cello, banjo, toy piano and (most importantly) vocal harmonies … combining exceptional songwriting talent and unexpected sounds for something truly singular.” 

“It's rare to find artists who can evoke as much emotion as River Whyless," writes Paste, naming the band’s self-titled EP one of the best of 2015.

The band’s music has been described as folk-rock, nature-pop, and baroque-folk, but in the end the members of River Whyless hope only to lend craft to their passions.
CREATED:20180807T160127Z
URL;VALUE=URI:http://holdmyticket.com/event/313746 

DTEND:20180808T003000
END:VEVENT
END:VCALENDAR