BEGIN:VCALENDAR
METHOD:PUBLISH
X-WR-TIMEZONE:America/Denver
PRODID:-//Hold My Ticket.//HMT Web App//EN
CALSCALE:GREGORIAN
METHOD:PUBLISH
X-WR-CALNAME:Meow Wolf
X-WR-CALDESC:Upcoming events at Meow Wolf
BEGIN:VTIMEZONE
TZID:America/Denver 
END:VTIMEZONE
BEGIN:VEVENT
SEQUENCE:2
TRANSP:OPAQUE
UID:d8a82a2250c3558ff5fbf0e1aa181f71
DTSTART:20180921T200000
DTSTAMP:20180921T150204Z
SUMMARY:Eleanor Friedberger 
DESCRIPTION:In contrast to the sonic serenity of 2016’s "New View," which Eleanor Friedberger arranged and recorded with her touring band, her new album "Rebound" was recorded mostly on her own and with the producer Clemens Knieper. Programmed drums, a Juno synthesizer, and muted rhythm guitars dominate the landscape where influences range from Stereolab and Suicide to Lena Platonos and Yellow Magic Orchestra. Pill will open the show.
CREATED:20180921T150204Z
URL;VALUE=URI:http://holdmyticket.com/event/313892 

DTEND:20180921T223000
END:VEVENT
END:VCALENDAR