BEGIN:VCALENDAR
METHOD:PUBLISH
X-WR-TIMEZONE:America/Los_Angeles
PRODID:-//Hold My Ticket.//HMT Web App//EN
CALSCALE:GREGORIAN
METHOD:PUBLISH
X-WR-CALNAME:Downbeat Lounge
X-WR-CALDESC:Upcoming events at Downbeat Lounge
BEGIN:VTIMEZONE
TZID:America/Los_Angeles 
END:VTIMEZONE
BEGIN:VEVENT
SEQUENCE:2
TRANSP:OPAQUE
UID:ad8f63ea315c906fada256c9363697ad
DTSTART:20180512T210000
DTSTAMP:20180512T160155Z
SUMMARY:EmopartyHNL At Downbeat Lounge
DESCRIPTION:City and Chainsaw Productions presents #emopartyhnl. Celebrate the glory days of Myspace and the sounds of Blink 182, Rites of Spring, New Found Glory and more. Playing all the hits and bangers of the 90's and early 2000's. 

May 12
9pm
21+
$5

Downbeat Lounge
42 N Hotel Street
Honolulu, HI 96817

#emonighthnl is a dance party and celebration of the sub-scene of alternative rock from the 90's and early 2000's

City and Chainsaw Productions is a concert and event promoter based in Honolulu, HI. Specializing in punk, ska, hardcore, indie, etc.
https://www.facebook.com/cityandchainsaw/
CREATED:20180512T160155Z
URL;VALUE=URI:http://holdmyticket.com/event/313945 

DTEND:20180513T010000
END:VEVENT
END:VCALENDAR