BEGIN:VCALENDAR
METHOD:PUBLISH
X-WR-TIMEZONE:America/Los_Angeles
PRODID:-//Hold My Ticket.//HMT Web App//EN
CALSCALE:GREGORIAN
METHOD:PUBLISH
X-WR-CALNAME:Downbeat Lounge
X-WR-CALDESC:Upcoming events at Downbeat Lounge
BEGIN:VTIMEZONE
TZID:America/Los_Angeles 
END:VTIMEZONE
BEGIN:VEVENT
SEQUENCE:2
TRANSP:OPAQUE
UID:57ff65f37cf2d8272ea0371c9283fd1a
DTSTART:20180519T150000
DTSTAMP:20180519T100113Z
SUMMARY:Failed Orbit's Summer Bummer at Downbeat
DESCRIPTION:Failed Orbit Records presents Summer Bummer at Downbeat Lounge, featuring performances by special guests Walter Etc. and Hemingway.

Supporting performances by Operation 7.5, Sasstronauts, Jikininki, Strangers With Kandy, Toro Mackey, A Shot at Sundown, The Chronies, The Bougies, Motmot

May 19
Starts at 3pm
All Ages
Tickets available at http://www.failedorbitrecords.com/

Downbeat Lounge
42 N Hotel Street
Honolulu, HI 96817

Failed Orbit Records is a Honolulu-based musical promotion company
https://www.facebook.com/failedorbitrecords/
http://www.failedorbitrecords.com/

Walter Etc. is a Ventura, CA indie rock band
https://www.facebook.com/WalterEtc.1/
https://walteretc.bandcamp.com/

Hemingway is an emo band from Portland, OR
https://www.facebook.com/hemingwaypdx/
https://hemingwaypdx.bandcamp.com/
CREATED:20180519T100113Z
URL;VALUE=URI:http://holdmyticket.com/event/313960 

DTEND:20180520T020000
END:VEVENT
END:VCALENDAR