BEGIN:VCALENDAR
METHOD:PUBLISH
X-WR-TIMEZONE:America/Los_Angeles
PRODID:-//Hold My Ticket.//HMT Web App//EN
CALSCALE:GREGORIAN
METHOD:PUBLISH
X-WR-CALNAME:Downbeat Lounge
X-WR-CALDESC:Upcoming events at Downbeat Lounge
BEGIN:VTIMEZONE
TZID:America/Los_Angeles 
END:VTIMEZONE
BEGIN:VEVENT
SEQUENCE:2
TRANSP:OPAQUE
UID:71427c22d15a16c21c13c9999719e156
DTSTART:20180505T210000
DTSTAMP:20180505T160136Z
SUMMARY:Cinco de Mayo with The Hydrolites at Downbeat Lounge
DESCRIPTION:Celebrate Cinco de Mayo at Downbeat Lounge with an all-night performance by rockers reggae crew The Hydrolites.

May 5
9pm
21+
$5

Downbeat Lounge
42 N Hotel Street
Honolulu, HI 96817

THE HYDROLITES, founded in 2013, offering Roots, Rockin, Reggae tunes from the island of Oahu, Hawaii. The Hydrolites band members are Bryce Lau, Ryan Trujillo, Chris Llarenas and Ronson Shiigi.

With all band members choosing to pursue their musical interests differently at a young age, it's no wonder, when all together- put a familiar but unique touch to their music. The Hydrolites started as a duo with Bryce Lau and Ryan Trujillo. In a few short months however, they added Drummer Chris Llarenas and Bass player Ronson Shiigi to make their band complete.
https://www.facebook.com/thehydrolites/
http://www.thehydrolites.com/
CREATED:20180505T160136Z
URL;VALUE=URI:http://holdmyticket.com/event/314221 

DTEND:20180506T020000
END:VEVENT
END:VCALENDAR