BEGIN:VCALENDAR
METHOD:PUBLISH
X-WR-TIMEZONE:America/Chicago
PRODID:-//Hold My Ticket.//HMT Web App//EN
CALSCALE:GREGORIAN
METHOD:PUBLISH
X-WR-CALNAME:Threadgill's 
X-WR-CALDESC:Upcoming events at Threadgill's 
BEGIN:VTIMEZONE
TZID:America/Chicago 
END:VTIMEZONE
BEGIN:VEVENT
SEQUENCE:2
TRANSP:OPAQUE
UID:0910c75e55df9760af1d1d91d575a125
DTSTART:20180526T200000
DTSTAMP:20180526T150107Z
SUMMARY:Michael Hearne &amp; Shake Russell
DESCRIPTION:Michael Hearne and Shake Russell have joined forces on their first duo recording - "Only As Strong As Your Dreams" released on Howlin' Dog Records! Come out for an evening of incredible music and food. 

CREATED:20180526T150107Z
URL;VALUE=URI:http://holdmyticket.com/event/314506 

DTEND:20180526T220000
END:VEVENT
END:VCALENDAR