BEGIN:VCALENDAR
METHOD:PUBLISH
X-WR-TIMEZONE:America/Chicago
PRODID:-//Hold My Ticket.//HMT Web App//EN
CALSCALE:GREGORIAN
METHOD:PUBLISH
X-WR-CALNAME:Threadgill's World Headquarters
X-WR-CALDESC:Upcoming events at Threadgill's World Headquarters
BEGIN:VTIMEZONE
TZID:America/Chicago 
END:VTIMEZONE
BEGIN:VEVENT
SEQUENCE:2
TRANSP:OPAQUE
UID:310fb87dc15d89068a665ef8e45f2bd6
DTSTART:20180613T190000
DTSTAMP:20180613T140125Z
SUMMARY:A Songwriters Tribute to John Prine
DESCRIPTION:
CREATED:20180613T140125Z
URL;VALUE=URI:http://holdmyticket.com/event/314642 

DTEND:20180613T220000
END:VEVENT
END:VCALENDAR