BEGIN:VCALENDAR
METHOD:PUBLISH
X-WR-TIMEZONE:America/Los_Angeles
PRODID:-//Hold My Ticket.//HMT Web App//EN
CALSCALE:GREGORIAN
METHOD:PUBLISH
X-WR-CALNAME:Humboldt Brews
X-WR-CALDESC:Upcoming events at Humboldt Brews
BEGIN:VTIMEZONE
TZID:America/Los_Angeles 
END:VTIMEZONE
BEGIN:VEVENT
SEQUENCE:2
TRANSP:OPAQUE
UID:e6eef6b211f1aa583af1b8dfad00d664
DTSTART:20180629T213000
DTSTAMP:20180629T170104Z
SUMMARY:Brews n' Bass
DESCRIPTION:Start Summer off right with this months Brews 'n Bass! This June we are keeping the summer rocking with the likes of $PKRFACE, Cassidy Blaze and Snoflake. Come get your in between festival fix right ova here!
CREATED:20180629T170104Z
URL;VALUE=URI:http://holdmyticket.com/event/315585 

DTEND:20180630T010000
END:VEVENT
END:VCALENDAR