BEGIN:VCALENDAR
METHOD:PUBLISH
X-WR-TIMEZONE:America/New_York
PRODID:-//Hold My Ticket.//HMT Web App//EN
CALSCALE:GREGORIAN
METHOD:PUBLISH
X-WR-CALNAME:Churchill's Pub
X-WR-CALDESC:Upcoming events at Churchill's Pub
BEGIN:VTIMEZONE
TZID:America/New_York 
END:VTIMEZONE
BEGIN:VEVENT
SEQUENCE:2
TRANSP:OPAQUE
UID:f2751dc64d44701472f419ec55d81549
DTSTART:20180731T210000
DTSTAMP:20180731T160110Z
SUMMARY:Dollhouse Presents... Live Music, Drag Shows, Film Club, DJ's, &amp; 1/2 off drinks for dolls! 9p/No Cover!
DESCRIPTION:
CREATED:20180731T160110Z
URL;VALUE=URI:http://holdmyticket.com/event/315607 

DTEND:20180801T030000
END:VEVENT
END:VCALENDAR