BEGIN:VCALENDAR
METHOD:PUBLISH
X-WR-TIMEZONE:America/Denver
PRODID:-//Hold My Ticket.//HMT Web App//EN
CALSCALE:GREGORIAN
METHOD:PUBLISH
X-WR-CALNAME:The Oriental Theater
X-WR-CALDESC:Upcoming events at The Oriental Theater
BEGIN:VTIMEZONE
TZID:America/Denver 
END:VTIMEZONE
BEGIN:VEVENT
SEQUENCE:2
TRANSP:OPAQUE
UID:830897aed48aeefc93e5da29646658cc
DTSTART:20180918T200000
DTSTAMP:20180918T150201Z
SUMMARY:Orgy
DESCRIPTION:
CREATED:20180918T150201Z
URL;VALUE=URI:http://holdmyticket.com/event/315741 

DTEND:20180918T234500
END:VEVENT
END:VCALENDAR