BEGIN:VCALENDAR
METHOD:PUBLISH
X-WR-TIMEZONE:America/Chicago
PRODID:-//Hold My Ticket.//HMT Web App//EN
CALSCALE:GREGORIAN
METHOD:PUBLISH
X-WR-CALNAME:Threadgill's World Headquarters
X-WR-CALDESC:Upcoming events at Threadgill's World Headquarters
BEGIN:VTIMEZONE
TZID:America/Chicago 
END:VTIMEZONE
BEGIN:VEVENT
SEQUENCE:2
TRANSP:OPAQUE
UID:82f020950bdea3e0d7e02489fb3fd254
DTSTART:20180623T200000
DTSTAMP:20180623T150137Z
SUMMARY:Vallejo
DESCRIPTION:
CREATED:20180623T150137Z
URL;VALUE=URI:http://holdmyticket.com/event/315953 

DTEND:20180623T223000
END:VEVENT
END:VCALENDAR