BEGIN:VCALENDAR
METHOD:PUBLISH
X-WR-TIMEZONE:America/Chicago
PRODID:-//Hold My Ticket.//HMT Web App//EN
CALSCALE:GREGORIAN
METHOD:PUBLISH
X-WR-CALNAME:Threadgill's World Headquarters
X-WR-CALDESC:Upcoming events at Threadgill's World Headquarters
BEGIN:VTIMEZONE
TZID:America/Chicago 
END:VTIMEZONE
BEGIN:VEVENT
SEQUENCE:2
TRANSP:OPAQUE
UID:024fe3908efc5874dc2b6575239f259c
DTSTART:20180707T200000
DTSTAMP:20180707T150153Z
SUMMARY:Patricia Vonne and Joe King Carrasco
DESCRIPTION:Check out Joe King Carrasco &amp; Patricia Vonne : “LIL’ LOBO” Official Music Video here: https://vimeo.com/262273874
CREATED:20180707T150153Z
URL;VALUE=URI:http://holdmyticket.com/event/315955 

DTEND:20180707T223000
END:VEVENT
END:VCALENDAR