BEGIN:VCALENDAR
METHOD:PUBLISH
X-WR-TIMEZONE:America/Chicago
PRODID:-//Hold My Ticket.//HMT Web App//EN
CALSCALE:GREGORIAN
METHOD:PUBLISH
X-WR-CALNAME:Threadgill's World Headquarters
X-WR-CALDESC:Upcoming events at Threadgill's World Headquarters
BEGIN:VTIMEZONE
TZID:America/Chicago 
END:VTIMEZONE
BEGIN:VEVENT
SEQUENCE:2
TRANSP:OPAQUE
UID:26508645f311110962d07730c2d26f56
DTSTART:20180721T200000
DTSTAMP:20180721T150145Z
SUMMARY:Heartbyrne
DESCRIPTION:$10 advance | $15 day of show
CREATED:20180721T150145Z
URL;VALUE=URI:http://holdmyticket.com/event/315957 

DTEND:20180721T223000
END:VEVENT
END:VCALENDAR