BEGIN:VCALENDAR
METHOD:PUBLISH
X-WR-TIMEZONE:America/Denver
PRODID:-//Hold My Ticket.//HMT Web App//EN
CALSCALE:GREGORIAN
METHOD:PUBLISH
X-WR-CALNAME:Outpost Performance Space
X-WR-CALDESC:Upcoming events at Outpost Performance Space
BEGIN:VTIMEZONE
TZID:America/Denver 
END:VTIMEZONE
BEGIN:VEVENT
SEQUENCE:2
TRANSP:OPAQUE
UID:d452a076561bd767e048434fcc10a368
DTSTART:20190310T193000
DTSTAMP:20190310T150112Z
SUMMARY:Germán López
DESCRIPTION:Brilliant young star of the "timple," a diminutive 5-stringed instrument intrinsic to music of the Canary Islands, Germán López touches audiences with original instrumental music from the Canary Islands. López harnesses the grit of Spanish flamenco, the structure of West African rhythms, the flourishing spirit of jazz, and an innovative 21st century approach to performing "island music." López's music has been praised for "entrancing" performances of "delicately rippling notes" (Huffington Post), notes that flow from musical traditions uniting Spain, Africa, and the New World.
CREATED:20190310T150112Z
URL;VALUE=URI:http://holdmyticket.com/event/315968 

DTEND:20190310T213000
END:VEVENT
END:VCALENDAR