BEGIN:VCALENDAR
METHOD:PUBLISH
X-WR-TIMEZONE:America/Denver
PRODID:-//Hold My Ticket.//HMT Web App//EN
CALSCALE:GREGORIAN
METHOD:PUBLISH
X-WR-CALNAME:Pavilion and Spanish Gardens
X-WR-CALDESC:Upcoming events at Pavilion and Spanish Gardens
BEGIN:VTIMEZONE
TZID:America/Denver 
END:VTIMEZONE
BEGIN:VEVENT
SEQUENCE:2
TRANSP:OPAQUE
UID:62001d4d4fa13bb2eb41321267536b65
DTSTART:20180714T180000
DTSTAMP:20180714T130145Z
SUMMARY:Hotel Albuquerque Dinner Series Featuring Farmer's Daughters
DESCRIPTION:Starting this summer, you can have an unparalleled farm-to-table experience at Hotel Albuquerque at Old Town. We’ve partnered with Farmer’s Daughters for five interactive and themed farm-to-table dinners featuring local produce, meats, and cheeses. Cocktails begin at 6pm, followed by dinner and entertainment under the Pavilion at Hotel Albuquerque at Old Town. 
www.HotelAbq.com/farmtotable
CREATED:20180714T130145Z
URL;VALUE=URI:http://holdmyticket.com/event/316145 

DTEND:20180714T210000
END:VEVENT
END:VCALENDAR