BEGIN:VCALENDAR
METHOD:PUBLISH
X-WR-TIMEZONE:America/Denver
PRODID:-//Hold My Ticket.//HMT Web App//EN
CALSCALE:GREGORIAN
METHOD:PUBLISH
X-WR-CALNAME:Meow Wolf
X-WR-CALDESC:Upcoming events at Meow Wolf
BEGIN:VTIMEZONE
TZID:America/Denver 
END:VTIMEZONE
BEGIN:VEVENT
SEQUENCE:2
TRANSP:OPAQUE
UID:20842a9b472841ccef842edcd583601f
DTSTART:20181003T200000
DTSTAMP:20181003T152158Z
SUMMARY:Houndmouth
DESCRIPTION:In late 2011, Matt Myers, Zak Appleby and Shane Cody started playing music together in a historic home in New Albany, Indiana dubbed "The Green House." Its rooms were adorned with relics from times past, so it was no surprise that songs such as "Penitentiary" bounced off the walls. Nostalgic sounds from their first album seemed to serve as a welcome escape for listeners from the relentless demands of the digital age. But if you asked any one of the guys, they were "just having fun."  Family of the Year will open the show.
CREATED:20181003T152158Z
URL;VALUE=URI:http://holdmyticket.com/event/316413 

DTEND:20181003T220000
END:VEVENT
END:VCALENDAR