BEGIN:VCALENDAR
METHOD:PUBLISH
X-WR-TIMEZONE:America/Los_Angeles
PRODID:-//Hold My Ticket.//HMT Web App//EN
CALSCALE:GREGORIAN
METHOD:PUBLISH
X-WR-CALNAME:Humboldt Brews
X-WR-CALDESC:Upcoming events at Humboldt Brews
BEGIN:VTIMEZONE
TZID:America/Los_Angeles 
END:VTIMEZONE
BEGIN:VEVENT
SEQUENCE:2
TRANSP:OPAQUE
UID:18701f365854a599aea36a34ff8c71a9
DTSTART:20180630T213000
DTSTAMP:20180630T170106Z
SUMMARY:Barn Fire and Dead Bird Son
DESCRIPTION:Barn fire:
A gritty low down twist of that classic 50s and 70s country sound. A blend of ripping upbeat originals and covers from Waylon to Owens.  We welcome you to dance your butts off with the premiere of our newest member playing guitar.
Dead Bird Son tears it up. This 4 piece band breathes new life into older transitional  folk tunes and puts their own spin on bluegrass. Comprised of many different instruments including: guitar, banjo, stand-up bass, accordion, mandolin, fiddle and washboard, you are sure to have a hell of a time!
CREATED:20180630T170106Z
URL;VALUE=URI:http://holdmyticket.com/event/316518 

DTEND:20180701T003000
END:VEVENT
END:VCALENDAR