BEGIN:VCALENDAR
METHOD:PUBLISH
X-WR-TIMEZONE:America/Denver
PRODID:-//Hold My Ticket.//HMT Web App//EN
CALSCALE:GREGORIAN
METHOD:PUBLISH
X-WR-CALNAME:The Oriental Theater
X-WR-CALDESC:Upcoming events at The Oriental Theater
BEGIN:VTIMEZONE
TZID:America/Denver 
END:VTIMEZONE
BEGIN:VEVENT
SEQUENCE:2
TRANSP:OPAQUE
UID:ed94ab655ee9fa2675ac6a4a3d9df22d
DTSTART:20181201T193000
DTSTAMP:20181201T160118Z
SUMMARY:Neal Brennan - Here We Go Tour
DESCRIPTION:
CREATED:20181201T160118Z
URL;VALUE=URI:http://holdmyticket.com/event/316571 

DTEND:20181201T234500
END:VEVENT
END:VCALENDAR