BEGIN:VCALENDAR
METHOD:PUBLISH
X-WR-TIMEZONE:America/Chicago
PRODID:-//Hold My Ticket.//HMT Web App//EN
CALSCALE:GREGORIAN
METHOD:PUBLISH
X-WR-CALNAME:Threadgill's 
X-WR-CALDESC:Upcoming events at Threadgill's 
BEGIN:VTIMEZONE
TZID:America/Chicago 
END:VTIMEZONE
BEGIN:VEVENT
SEQUENCE:2
TRANSP:OPAQUE
UID:0b76b72b74adbcb46398fb893eb2a023
DTSTART:20180714T200000
DTSTAMP:20180714T150148Z
SUMMARY:Songwriters Series: Tom Meny with Grace Pettis and Roger Blevins Jr (of Mingo Fishtrap)
DESCRIPTION:Award winning songwriter Tom Meny currently calls Buda, TX home. Stationed near the live music mecca of Austin, it can be difficult to stand out in a vast sea of great musicians. But Tom Meny is a voice apart from the rest. With influences ranging from Glen Hansard to John Mayer, Tom uses non-standard guitar tuning, a soulful voice, memorable melodies and direct lyrics that set himself apart and connect with his audiences.

Join us at Threadgill's North Lamar for our new Songwriters Series, featuring guest songwriters in an intimate listening room setting.
CREATED:20180714T150148Z
URL;VALUE=URI:http://holdmyticket.com/event/316834 

DTEND:20180714T220000
END:VEVENT
END:VCALENDAR