BEGIN:VCALENDAR
METHOD:PUBLISH
X-WR-TIMEZONE:America/Los_Angeles
PRODID:-//Hold My Ticket.//HMT Web App//EN
CALSCALE:GREGORIAN
METHOD:PUBLISH
X-WR-CALNAME:Humboldt Brews
X-WR-CALDESC:Upcoming events at Humboldt Brews
BEGIN:VTIMEZONE
TZID:America/Los_Angeles 
END:VTIMEZONE
BEGIN:VEVENT
SEQUENCE:2
TRANSP:OPAQUE
UID:0ebabe068be98f27654eeb4a33eb041a
DTSTART:20180808T213000
DTSTAMP:20180808T170108Z
SUMMARY:Five Alarm Funk
DESCRIPTION:Some bands want to change the world. Five Alarm Funk’s goal is much simpler.

They want you to sweat.

That’s been the idea since the first time drummer Tayo Branston, guitarist Gabe Boothroyd and the original Five Alarm bassist Neil Towers met at a Vancouver house party in 2003. Since that night, the temperature in their leafy green hometown began to rise. Other musicians started showing up to jam. The parties led to gigs locally, which led a few years later to grinding bus tours across Canada and into the States. The crowds grew. The grooves burned. A horn section jumped onboard to punch the beat harder. Percussion cranked it up even more. EPs and albums followed, as studios and gear melted down from the sheer intensity these guys unleashed.
That’s global warming as it ought to be.
CREATED:20180808T170108Z
URL;VALUE=URI:http://holdmyticket.com/event/317062 

DTEND:20180809T003000
END:VEVENT
END:VCALENDAR