BEGIN:VCALENDAR
METHOD:PUBLISH
X-WR-TIMEZONE:America/Los_Angeles
PRODID:-//Hold My Ticket.//HMT Web App//EN
CALSCALE:GREGORIAN
METHOD:PUBLISH
X-WR-CALNAME:Humboldt Brews
X-WR-CALDESC:Upcoming events at Humboldt Brews
BEGIN:VTIMEZONE
TZID:America/Los_Angeles 
END:VTIMEZONE
BEGIN:VEVENT
SEQUENCE:2
TRANSP:OPAQUE
UID:b70b990d115b0e7fc6ceca3db3733bbf
DTSTART:20180809T213000
DTSTAMP:20180809T170201Z
SUMMARY:Big Sam's Funky Nation
DESCRIPTION:Noladelic PowerFunk. That's the sound Big Sam's Funky Nation have been whipping up for more than a decade. It's high-energy music that mixes funk, rock &amp; roll, hip-hop, and jazz into the same pot, gluing everything together with the brassy influence — and heavy grooves — of New Orleans. 

From national performances at Bonnaroo and Austin City Limits, to hometown appearances at Voodoo Fest and Jazz Fest, Big Sam's Funky Nation have built their reputation onstage. The band's live performances are legendary, filled with blasts of brass, bursts of electric guitar, and the charisma of Big Sam, a frontman who sings, plays, dances, and involves the audience in everything he does. You don't just watch a Funky Nation show. You become part of the show, singing along with Big Sam whenever he demands a call-and-response. 

A native of New Orleans, Big Sam first rose to fame as a member of the Dirty Dozen Brass Band, whose touring schedule kept the young trombonist on the road for 300 days a year. The group performed with bands from all genres, backing up Widespread Panic one minute before sharing the stage with Dave Matthews Band the next. A fan of diverse bands like Parliament Funkadelic, Jimi Hendrix, Red Hot Chili Peppers, Living Colour, and Prince, Big Sam loved the variety that Dirty Dozen Brass Band offered. He wanted to front his own group, though. He needed to sing, to engage the crowd, to write his own songs. Inspired to chase down that dream, he formed Big Sam's Funky Nation, reaching out to some of his favorite players from around the Big Easy — including Andrew “Da Phessa” Bayham, Jerry “Jblakk” Henderson, 
Alfred Jordan and Keenan McRae — to create his own super-group. 

"We don't cater to one demographic," says Big Sam, rattling off a list of jam band festivals, jazz shows, rock clubs, and funk gigs that his band has played since 2007. "We play music for everybody. It's not just funk; that's the foundation, but the music goes from funk to rock to wild jazz. It's music about love and partying. Everyone can get down with that."
CREATED:20180809T170201Z
URL;VALUE=URI:http://holdmyticket.com/event/317064 

DTEND:20180810T003000
END:VEVENT
END:VCALENDAR