BEGIN:VCALENDAR
METHOD:PUBLISH
X-WR-TIMEZONE:America/Chicago
PRODID:-//Hold My Ticket.//HMT Web App//EN
CALSCALE:GREGORIAN
METHOD:PUBLISH
X-WR-CALNAME:Threadgill's World Headquarters
X-WR-CALDESC:Upcoming events at Threadgill's World Headquarters
BEGIN:VTIMEZONE
TZID:America/Chicago 
END:VTIMEZONE
BEGIN:VEVENT
SEQUENCE:2
TRANSP:OPAQUE
UID:28de07b1a432711bcab4a14be786b551
DTSTART:20180630T200000
DTSTAMP:20180630T150107Z
SUMMARY:The Mrs. 
DESCRIPTION:Join The Mrs on Saturday, June 30th from 7-9pm at Threadgill's as they celebrate the release of their new single, Five Minutes! Musical guests include The Mrs, Water and Rust, and Corbella.
CREATED:20180630T150107Z
URL;VALUE=URI:http://holdmyticket.com/event/317123 

DTEND:20180630T223000
END:VEVENT
END:VCALENDAR