BEGIN:VCALENDAR
METHOD:PUBLISH
X-WR-TIMEZONE:America/Chicago
PRODID:-//Hold My Ticket.//HMT Web App//EN
CALSCALE:GREGORIAN
METHOD:PUBLISH
X-WR-CALNAME:Threadgill's World Headquarters
X-WR-CALDESC:Upcoming events at Threadgill's World Headquarters
BEGIN:VTIMEZONE
TZID:America/Chicago 
END:VTIMEZONE
BEGIN:VEVENT
SEQUENCE:2
TRANSP:OPAQUE
UID:84473cc1ce5a8021a450332fed0644ed
DTSTART:20180713T190000
DTSTAMP:20180713T140134Z
SUMMARY:KUTX Presents Back to the Garden: Erika Wennerstrom, Jeff Plankenhorn
DESCRIPTION:Join KUTX at the Threadgill's World HQ Beer Garden every Friday in July for a FREE concert with some of our favorite local bands. This Friday, July 13 we've got Jeff Plankenhorn at 7p and Erika Wennerstrom at 8p. Full schedule and more info available at KUTX.org!
CREATED:20180713T140134Z
URL;VALUE=URI:http://holdmyticket.com/event/317221 

DTEND:20180713T210000
END:VEVENT
END:VCALENDAR