BEGIN:VCALENDAR
METHOD:PUBLISH
X-WR-TIMEZONE:America/Chicago
PRODID:-//Hold My Ticket.//HMT Web App//EN
CALSCALE:GREGORIAN
METHOD:PUBLISH
X-WR-CALNAME:Threadgill's World Headquarters
X-WR-CALDESC:Upcoming events at Threadgill's World Headquarters
BEGIN:VTIMEZONE
TZID:America/Chicago 
END:VTIMEZONE
BEGIN:VEVENT
SEQUENCE:2
TRANSP:OPAQUE
UID:f5b2602db84038d6e6036f9acf655e50
DTSTART:20180727T190000
DTSTAMP:20180727T140141Z
SUMMARY:KUTX Presents Back To The Garden: Cotton Mather and Molly Burch
DESCRIPTION:Join KUTX at the Threadgill's World HQ Beer Garden every Friday in July for a FREE concert with some of our favorite local bands. For our final show this Friday, July 27 Cotton Mather and Molly Burch take the stage at 8p. Full schedule and more info available at KUTX.org!
CREATED:20180727T140141Z
URL;VALUE=URI:http://holdmyticket.com/event/317223 

DTEND:20180727T210000
END:VEVENT
END:VCALENDAR