BEGIN:VCALENDAR
METHOD:PUBLISH
X-WR-TIMEZONE:America/Denver
PRODID:-//Hold My Ticket.//HMT Web App//EN
CALSCALE:GREGORIAN
METHOD:PUBLISH
X-WR-CALNAME:The Oriental Theater
X-WR-CALDESC:Upcoming events at The Oriental Theater
BEGIN:VTIMEZONE
TZID:America/Denver 
END:VTIMEZONE
BEGIN:VEVENT
SEQUENCE:2
TRANSP:OPAQUE
UID:95c8127666f9f2e2845335bbf4bd5352
DTSTART:20181027T210000
DTSTAMP:20181027T160113Z
SUMMARY:HELLoween Costume Ball 
DESCRIPTION:
CREATED:20181027T160113Z
URL;VALUE=URI:http://holdmyticket.com/event/317413 

DTEND:20181028T020000
END:VEVENT
END:VCALENDAR