BEGIN:VCALENDAR
METHOD:PUBLISH
X-WR-TIMEZONE:America/Denver
PRODID:-//Hold My Ticket.//HMT Web App//EN
CALSCALE:GREGORIAN
METHOD:PUBLISH
X-WR-CALNAME:Launchpad
X-WR-CALDESC:Upcoming events at Launchpad
BEGIN:VTIMEZONE
TZID:America/Denver 
END:VTIMEZONE
BEGIN:VEVENT
SEQUENCE:2
TRANSP:OPAQUE
UID:01c925eeb655bad51bbbb301e5d20700
DTSTART:20181119T190000
DTSTAMP:20181211T141748Z
SUMMARY:Broadside * With Confidence 
DESCRIPTION:
CREATED:20181211T141748Z
URL;VALUE=URI:http://holdmyticket.com/event/318311 

DTEND:20181119T230000
END:VEVENT
END:VCALENDAR